BEGIN:VCALENDAR
VERSION:2.0
PRODID:-//Shames JCC - ECPv6.1.3//NONSGML v1.0//EN
CALSCALE:GREGORIAN
METHOD:PUBLISH
X-ORIGINAL-URL:https://www.shamesjcc.org
X-WR-CALDESC:Events for Shames JCC
REFRESH-INTERVAL;VALUE=DURATION:PT1H
X-Robots-Tag:noindex
X-PUBLISHED-TTL:PT1H
BEGIN:VTIMEZONE
TZID:America/New_York
BEGIN:DAYLIGHT
TZOFFSETFROM:-0500
TZOFFSETTO:-0400
TZNAME:EDT
DTSTART:20210314T070000
END:DAYLIGHT
BEGIN:STANDARD
TZOFFSETFROM:-0400
TZOFFSETTO:-0500
TZNAME:EST
DTSTART:20211107T060000
END:STANDARD
END:VTIMEZONE
BEGIN:VEVENT
DTSTART;TZID=America/New_York:20211004T100000
DTEND;TZID=America/New_York:20211004T113000
DTSTAMP:20260423T195811
CREATED:20210722T194403Z
LAST-MODIFIED:20210928T201538Z
UID:23472-1633341600-1633347000@www.shamesjcc.org
SUMMARY:Germany’s Two Summer Olympics On The Global Stage
DESCRIPTION:Glickman\, Stoller\, Bergman\, Spitz and Cosell. Germany’s Two Summer Olympics On The Global Stage\nWith award-winning journalist Evan Weiner \nThere are a few people in Germany who want to see Berlin bid for the 2036 Summer Olympics to mark the 100th anniversary of the Hitler-Nazi Games. The proponents think it could be a teachable time for the word in how propaganda was used to promote the Games and the Nazi regime. The 1936 Olympics in Berlin was described as the finest ever by Avery Brundage who was involved with the Olympics first as an athlete and then the President of the International Olympic Committee. Germany has hosted two Summer Olympics in 1936 and 1972. There was a stain on both athletic competitions. \nThe 1936 Berlin Olympics was where Marty Glickman and Sam Stoller were denied an opportunity to run and Gretel Bergman was not allowed on the German Olympic team because they were Jewish It is also the story of how some Americans wanted to boycott the Games so it would seems they were not going to legitimize the Nazi regime. It is the story of how an American American athlete Jesse Owners ruined Hitler’s coming-out party. In 1972\, the Black September attack. Mark Spitz won his gold medals at Munich and was considered a high-value target as the terrorist attack in the Olympics Village was unfolding. Spitz was whisked out. The International Olympic Committee did not acknowledge the tragedy until 2016. \nAbout Evan Weiner \nEvan Weiner Bio:  is an award-winning journalist and recognized global expert of the “Politics of Sports Business”. He has a daily video podcast called The Politics of Sports Business. In the United States\, he has been a radio commentator\, TV pundit on MSNBC\, and ABC.  He is also an author of 11 books and is a frequent college speaker. He has been a regular on BBC radio as well as Talk Sport London and has been quoted in Bolivian and Australian newspapers. From 1988 until 1992\, Evan was a member of the Minnesota North Stars radio broadcast team.  In 2007\, Evan was selected by the United States Department of State to speak at Texas A & M -George Bush Presidential Library to explain how the American government partners with sports addressing 16 hand selected foreign nationals. He won the 2010 Ronald Reagan Media Award from the United States Sports Academy. In 2015\, Evan was featured on the documentary\, “The Sons of Ben” about the economic fall of Chester\, Pennsylvania and how the city thought a soccer team would be a key to economic revival.
URL:https://www.shamesjcc.org/event/germanys-two-summer-olympics-on-the-global-stage/
CATEGORIES:Renard Lecture
ATTACH;FMTTYPE=image/jpeg:https://www.shamesjcc.org/wp-content/uploads/2021/07/17880038_101.jpg
END:VEVENT
BEGIN:VEVENT
DTSTART;TZID=America/New_York:20211014T113000
DTEND;TZID=America/New_York:20211014T121500
DTSTAMP:20260423T195811
CREATED:20210811T180614Z
LAST-MODIFIED:20211013T173632Z
UID:23605-1634211000-1634213700@www.shamesjcc.org
SUMMARY:Introduction to the Alexander Technique Workshop
DESCRIPTION:What is the Alexander Technique? \nA set of skills for releasing tension\, improving posture and movement\, and increasing well-being. \nDancers\, singers\, and actors at Julliard all study the AT 2-3 times a week for their entire training. It’s taught at the Mayo Clinic and used by many athletes to improve performance and reduce wear and tear. \nHow effective is it? Very! Please read more about the proven benefits in the articles below. \nDozens of scientific trials: https://www.amsatonline.org/aws/AMSAT/pt/sp/research \nBritish Medical Journal – https://www.bmj.com/content/337/bmj.a884 \nFor more information\, please reach out to Lisa Bruskin at lbruskin@shamesjcc.org.
URL:https://www.shamesjcc.org/event/introduction-to-the-alexander-technique-workshop/
CATEGORIES:Special Event
ATTACH;FMTTYPE=image/png:https://www.shamesjcc.org/wp-content/uploads/2021/08/AlexanderPoster-e1628705140491.png
END:VEVENT
BEGIN:VEVENT
DTSTART;TZID=America/New_York:20211018T100000
DTEND;TZID=America/New_York:20211018T110000
DTSTAMP:20260423T195811
CREATED:20210909T184205Z
LAST-MODIFIED:20211015T182151Z
UID:23650-1634551200-1634554800@www.shamesjcc.org
SUMMARY:Creative Aging Workshop with Barbara Stern
DESCRIPTION:A workshop associated with the Partnership Innovation for Older Adults Program. Here is an opportunity to explore new options in your life. Learn about supports that are available in Westchester so you can enjoy aging. \nClick here for Barbara’s bio. 
URL:https://www.shamesjcc.org/event/creative-aging-workshop-with-barbara-stern/
CATEGORIES:Renard Lecture
ATTACH;FMTTYPE=image/jpeg:https://www.shamesjcc.org/wp-content/uploads/2021/09/senior-couple-hugging-home-scaled.jpg
END:VEVENT
BEGIN:VEVENT
DTSTART;TZID=America/New_York:20211025T100000
DTEND;TZID=America/New_York:20211025T110000
DTSTAMP:20260423T195811
CREATED:20210909T182313Z
LAST-MODIFIED:20211011T194903Z
UID:23644-1635156000-1635159600@www.shamesjcc.org
SUMMARY:Great American Standards Song Book with Nicole Pasternak & Hiroshi Yamazaki
DESCRIPTION:The duo will explore The Great American Song Book\, featuring tried and true standards\, as well as revealing some of its lesser-known “hidden gems”. \nNicole Pasternak – Vocalist. Built an appreciative audience in the Northeast and beyond with her honest swinging voice and effortless attitude.  In the spirit of singers like Ella Fitzgerald\, Peggy Lee\, Rosemary Clooney\, and Anita O’Day\, she shines on traditional swing songs\, renders heartfelt ballads\, is a natural improviser\, and performs her own compositions. Download her full bio here. She will perform with Jazz Pianist Hiroshi Yamazaki. \nHiroshi Yamazaki: Music Conservatory of Westchester: Faculty since 2002 \nPerformances and Distinctions: A native of Japan\, Hiroshi Yamazaki gave his first professional jazz performance at age 22 at the popular S.A.B. Hall in Osaka. Shortly after completing college\, he moved to NYC where he studied with the great pianist Buddy Montgomery and forged his own voice as an improviser\, composer\, and arranger. His New York debut took place in 1988 at the Jazz Center of New York where he appeared with bassist Paul West and drummer Leroy Williams. He has appeared at some of the most popular jazz venues in New York City including the Village Gate\, Bluenote\, and Birdland. In 1996\, he released his debut recording\, Sketch Of Bridge\, with Ron Carter on bass and Lewis Nash on drums. A second album\, We May Say Love\, followed in 2000. Currently\, Hiroshi performs in the New York region and in Japan with Rufus Reid\, Akira Tana\, Tony Jefferson\, Steve LaSpina\, and Andrew Beals. He leads his own jazz groups and serves as a sideman with the Bill Crow Trio.
URL:https://www.shamesjcc.org/event/great-american-standards-song-book-with-nicole-pasternak-hiroshi-yamazaki/
ATTACH;FMTTYPE=image/jpeg:https://www.shamesjcc.org/wp-content/uploads/2021/09/download.jpg
END:VEVENT
END:VCALENDAR