BEGIN:VCALENDAR
VERSION:2.0
PRODID:-//Shames JCC - ECPv6.1.3//NONSGML v1.0//EN
CALSCALE:GREGORIAN
METHOD:PUBLISH
X-ORIGINAL-URL:https://www.shamesjcc.org
X-WR-CALDESC:Events for Shames JCC
REFRESH-INTERVAL;VALUE=DURATION:PT1H
X-Robots-Tag:noindex
X-PUBLISHED-TTL:PT1H
BEGIN:VTIMEZONE
TZID:America/New_York
BEGIN:DAYLIGHT
TZOFFSETFROM:-0500
TZOFFSETTO:-0400
TZNAME:EDT
DTSTART:20210314T070000
END:DAYLIGHT
BEGIN:STANDARD
TZOFFSETFROM:-0400
TZOFFSETTO:-0500
TZNAME:EST
DTSTART:20211107T060000
END:STANDARD
END:VTIMEZONE
BEGIN:VEVENT
DTSTART;TZID=America/New_York:20210405T100000
DTEND;TZID=America/New_York:20210405T113000
DTSTAMP:20260419T193403
CREATED:20201209T185322Z
LAST-MODIFIED:20210405T115314Z
UID:22159-1617616800-1617622200@www.shamesjcc.org
SUMMARY:CANCELLED: The Music in the Cupboard: Performance and Lecture with Dominique Hellsten and Craig Ketter
DESCRIPTION:“Music can diminish evil” Viktor Ullmann 1898 –1941 Among the many cultural victims of the Holocaust was an adventurous composer named Viktor Ullmann\, who had an affinity for music that the Nazis labeled “ degenerate.” Born in a Habsburg Empire province on the eve of the new century\, he lived and worked in Austria\, Switzerland\, Germany and Czechoslovakia\, before being deported to Theresienstadt in 1942 and eventually murdered in Auschwitz on October 18th\, 1944. Ullmann first studied briefly with Schönberg\, and later with Zemlinsky. In 2015\, Ms. Hellsten founded the Ullmann Project\, in order to make Viktor Ullmann’s music more widely known. Its inaugural recital at Merkin 13 \nHall was very well received by the audience and reviewers alike. Dominique Hellsten\, a Swedish-born soprano\, has led a successful career as a freelance opera and concert artist throughout Europe. Her engagements include appearances at the Royal Albert Hall\, St Patrick’s Cathedral\, Merkin Hall\, and at Caramoor\, NY. She is also a champion of New Music\, having commissioned several works for her\, notably the cantata Phèdre\, by French-Lebanese composer Naji Hakim. Ms. Hellsten is a voice teacher and maintains a studio in Westchester County. \nPianist Craig Ketter has distinguished himself as a much sought-after pianist\, accompanist\, and vocal coach in the New York City area and beyond. As a soloist\, Mr. Ketter has performed with many orchestras and symphonies and his solo concerts have taken him to Mexico\, Argentina\, Barbados\, France\, Germany\, Japan\, and across the United States and Canada. Mr. Ketter regularly joins forces with international singers and chamber groups. Venues include NPR’s Performance Today series\, CBS Sunday Morning\, Sirius Satellite Radio\, Carnegie Hall\, Avery Fisher Hall\, the Teatro Colon in Buenos Aires\, La Huaca\, Atlapa in Panama City\, and more.
URL:https://www.shamesjcc.org/event/the-music-in-the-cupboard-performance-and-lecture-with-dominique-hellsten-and-craig-ketter/
CATEGORIES:Renard Lecture
ATTACH;FMTTYPE=image/jpeg:https://www.shamesjcc.org/wp-content/uploads/2020/12/Viktor-Ullmann-Ullmann_Lisbeth_und_Trauneck.jpg
END:VEVENT
BEGIN:VEVENT
DTSTART;TZID=America/New_York:20210412T100000
DTEND;TZID=America/New_York:20210412T113000
DTSTAMP:20260419T193403
CREATED:20210305T164202Z
LAST-MODIFIED:20210305T164202Z
UID:23067-1618221600-1618227000@www.shamesjcc.org
SUMMARY:The Rise and Fall of the Catskills and the Comedians Who Made Them Famous
DESCRIPTION:With Mort Segal. More information TBA. \n  \n 
URL:https://www.shamesjcc.org/event/the-rise-and-fall-of-the-catskills-and-the-comedians-who-made-them-famous/
CATEGORIES:Renard Lecture
ATTACH;FMTTYPE=image/jpeg:https://www.shamesjcc.org/wp-content/uploads/2021/03/Catskills.jpg
END:VEVENT
BEGIN:VEVENT
DTSTART;TZID=America/New_York:20210419T100000
DTEND;TZID=America/New_York:20210419T113000
DTSTAMP:20260419T193403
CREATED:20201218T191625Z
LAST-MODIFIED:20210305T164235Z
UID:22293-1618826400-1618831800@www.shamesjcc.org
SUMMARY:When the War Came: Three Households on the Palisades Face the Civil War with Eric Nelson
DESCRIPTION:When the War Came: Three Households on the Palisades Face the Civil War with Eric Nelson \nWhile no battles were fought in Hudson Valley\, the effects of the Civil War were felt throughout the region. In the tiny riverfront settlement of Closter Landing on the New Jersey Palisades\, around a dozen men from several families volunteered for the Union. Historical interpreter Eric Nelsen investigates three of these households\, each headed by a widow\, whose sons went off to fight. Eric Nelson has 11 \nbeen a historical interpreter for the Palisades Interstate Park in New Jersey since 1992\, full time since ’98. He has been fascinated with all aspects of the Palisades and the park\, and still considers it an honor to share the legacy of conservation it represents. The “Ghosts” program is a particular passion. To realize that the park was once home to several hundred families is an incredible thought. Who were these people? What became of them? And\, how do stories such as theirs seem to disappear from public knowledge? Those are the questions I hope to explore with this program.
URL:https://www.shamesjcc.org/event/when-the-war-came-three-households-on-the-palisades-face-the-civil-war-with-eric-nelson/
CATEGORIES:Renard Lecture
ATTACH;FMTTYPE=image/jpeg:https://www.shamesjcc.org/wp-content/uploads/2020/12/Overview-role-Pennsylvania-American-Civil-War.jpg
END:VEVENT
BEGIN:VEVENT
DTSTART;TZID=America/New_York:20210426T100000
DTEND;TZID=America/New_York:20210426T113000
DTSTAMP:20260419T193403
CREATED:20201218T191908Z
LAST-MODIFIED:20210305T164312Z
UID:22298-1619431200-1619436600@www.shamesjcc.org
SUMMARY:Words\, Symbols\, and Acts of Hate
DESCRIPTION:The 2017 Unite the Right rally in Charlottesville\, Virginia and the 2018 Tree of Life Synagogue Shooting were significant moments in recent United States history\, as they revealed a persistence of hatred and overt discrimination that some Americans believed was a thing of the past. This presentation will focus on the recent increase in hate speech\, hate symbols and hate crimes we are witnessing in our schools and communities. Issues such as First Amendment rights and limitations will be discussed as they apply to hate speech and nonverbal symbols. Julia Scallero served as a chairperson of the Social Studies department at North Salem High School for 8 years and taught in that district for 36 years. She is a recipient of the Louis Yavner Teacher Award for Teaching about the Holocaust and Other Human Rights Violations and she is a former president of the Westchester Council for the Social Studies. Ms. Scallero participated in an educator’s study trip to Germany and was a member of the HHREC’s committee which designed an interdisciplinary Holocaust curriculum for high school students. Sponsored by The Holocaust & Human Rights Education Center.
URL:https://www.shamesjcc.org/event/words-and-symbols-of-hate/
CATEGORIES:Renard Lecture
ATTACH;FMTTYPE=image/jpeg:https://www.shamesjcc.org/wp-content/uploads/2020/12/first_amendment001_0.jpg
END:VEVENT
END:VCALENDAR