BEGIN:VCALENDAR
VERSION:2.0
PRODID:-//Shames JCC - ECPv6.1.3//NONSGML v1.0//EN
CALSCALE:GREGORIAN
METHOD:PUBLISH
X-WR-CALNAME:Shames JCC
X-ORIGINAL-URL:https://www.shamesjcc.org
X-WR-CALDESC:Events for Shames JCC
REFRESH-INTERVAL;VALUE=DURATION:PT1H
X-Robots-Tag:noindex
X-PUBLISHED-TTL:PT1H
BEGIN:VTIMEZONE
TZID:America/New_York
BEGIN:DAYLIGHT
TZOFFSETFROM:-0500
TZOFFSETTO:-0400
TZNAME:EDT
DTSTART:20210314T070000
END:DAYLIGHT
BEGIN:STANDARD
TZOFFSETFROM:-0400
TZOFFSETTO:-0500
TZNAME:EST
DTSTART:20211107T060000
END:STANDARD
END:VTIMEZONE
BEGIN:VEVENT
DTSTART;TZID=America/New_York:20210419T100000
DTEND;TZID=America/New_York:20210419T113000
DTSTAMP:20260421T204934
CREATED:20201218T191625Z
LAST-MODIFIED:20210305T164235Z
UID:22293-1618826400-1618831800@www.shamesjcc.org
SUMMARY:When the War Came: Three Households on the Palisades Face the Civil War with Eric Nelson
DESCRIPTION:When the War Came: Three Households on the Palisades Face the Civil War with Eric Nelson \nWhile no battles were fought in Hudson Valley\, the effects of the Civil War were felt throughout the region. In the tiny riverfront settlement of Closter Landing on the New Jersey Palisades\, around a dozen men from several families volunteered for the Union. Historical interpreter Eric Nelsen investigates three of these households\, each headed by a widow\, whose sons went off to fight. Eric Nelson has 11 \nbeen a historical interpreter for the Palisades Interstate Park in New Jersey since 1992\, full time since ’98. He has been fascinated with all aspects of the Palisades and the park\, and still considers it an honor to share the legacy of conservation it represents. The “Ghosts” program is a particular passion. To realize that the park was once home to several hundred families is an incredible thought. Who were these people? What became of them? And\, how do stories such as theirs seem to disappear from public knowledge? Those are the questions I hope to explore with this program.
URL:https://www.shamesjcc.org/event/when-the-war-came-three-households-on-the-palisades-face-the-civil-war-with-eric-nelson/
CATEGORIES:Renard Lecture
ATTACH;FMTTYPE=image/jpeg:https://www.shamesjcc.org/wp-content/uploads/2020/12/Overview-role-Pennsylvania-American-Civil-War.jpg
END:VEVENT
END:VCALENDAR