BEGIN:VCALENDAR
VERSION:2.0
PRODID:-//Shames JCC - ECPv6.1.3//NONSGML v1.0//EN
CALSCALE:GREGORIAN
METHOD:PUBLISH
X-WR-CALNAME:Shames JCC
X-ORIGINAL-URL:https://www.shamesjcc.org
X-WR-CALDESC:Events for Shames JCC
REFRESH-INTERVAL;VALUE=DURATION:PT1H
X-Robots-Tag:noindex
X-PUBLISHED-TTL:PT1H
BEGIN:VTIMEZONE
TZID:America/New_York
BEGIN:DAYLIGHT
TZOFFSETFROM:-0500
TZOFFSETTO:-0400
TZNAME:EDT
DTSTART:20230312T070000
END:DAYLIGHT
BEGIN:STANDARD
TZOFFSETFROM:-0400
TZOFFSETTO:-0500
TZNAME:EST
DTSTART:20231105T060000
END:STANDARD
END:VTIMEZONE
BEGIN:VEVENT
DTSTART;TZID=America/New_York:20230328T100000
DTEND;TZID=America/New_York:20230328T110000
DTSTAMP:20260421T085508
CREATED:20230308T194852Z
LAST-MODIFIED:20230308T194852Z
UID:27533-1679997600-1680001200@www.shamesjcc.org
SUMMARY:Project Genesis: An Interfaith Conversation Between Two Clergy
DESCRIPTION:Project Genesis: An Interfaith Conversation Between Two Clergy\nTwo clergies from different faiths will analyze and discuss different interpretations of the books of Genesis. \nRabbi Jay Stein and Reverend Gareth Evans will discuss the story of Jacob and the birthright. When parents pick a favorite child\, the impact is felt for many generations. In this session\, we will unpack the biblical dysfunctional family of Isaac\, Esau\, Rebecca\, and Jacob. Together we will explore what our two faiths have to say about complicated family dynamics. \nAbout Project Genesis: The same story can have multiple meanings. The books of the Old Testament in particular are ripe with symbol\, metaphor\, and character\, providing the reader with the opportunity to unpack and analyze the meanings. In Project Genesis\, we will discuss different interpretations of some of the beloved stories we learned as children and now revisit as adults.
URL:https://www.shamesjcc.org/event/project-genesis-an-interfaith-conversation-between-two-clergy-3/
CATEGORIES:Jewish Life
ATTACH;FMTTYPE=image/png:https://www.shamesjcc.org/wp-content/uploads/2023/03/Copy-of-Project-Genesis-Facebook-Cover.png
END:VEVENT
BEGIN:VEVENT
DTSTART;TZID=America/New_York:20230328T150000
DTEND;TZID=America/New_York:20230328T170000
DTSTAMP:20260421T085508
CREATED:20230322T135446Z
LAST-MODIFIED:20230322T135958Z
UID:27672-1680015600-1680022800@www.shamesjcc.org
SUMMARY:Passover Pop-up: Afikomen Bagmaking
DESCRIPTION:Come have fun as you learn about Passover with a craft. Afikomen is the piece\nbroken off from a matzo during the Seder and put aside to be eaten at the end\nof the meal\, as dessert. \nPlease join Yanira to sew Afikomen bags using age-appropriate materials. No registration is required\, just stop by the Main Lobby!
URL:https://www.shamesjcc.org/event/passover-pop-up-afikomen-bagmaking/
CATEGORIES:Jewish Life
ATTACH;FMTTYPE=image/jpeg:https://www.shamesjcc.org/wp-content/uploads/2023/03/passover-celebration-1200x700-1.jpg
END:VEVENT
END:VCALENDAR