BEGIN:VCALENDAR
VERSION:2.0
PRODID:-//Shames JCC - ECPv6.1.3//NONSGML v1.0//EN
CALSCALE:GREGORIAN
METHOD:PUBLISH
X-WR-CALNAME:Shames JCC
X-ORIGINAL-URL:https://www.shamesjcc.org
X-WR-CALDESC:Events for Shames JCC
REFRESH-INTERVAL;VALUE=DURATION:PT1H
X-Robots-Tag:noindex
X-PUBLISHED-TTL:PT1H
BEGIN:VTIMEZONE
TZID:America/New_York
BEGIN:DAYLIGHT
TZOFFSETFROM:-0500
TZOFFSETTO:-0400
TZNAME:EDT
DTSTART:20230312T070000
END:DAYLIGHT
BEGIN:STANDARD
TZOFFSETFROM:-0400
TZOFFSETTO:-0500
TZNAME:EST
DTSTART:20231105T060000
END:STANDARD
END:VTIMEZONE
BEGIN:VEVENT
DTSTART;TZID=America/New_York:20230501T183000
DTEND;TZID=America/New_York:20230501T200000
DTSTAMP:20260422T210336
CREATED:20230411T135924Z
LAST-MODIFIED:20230419T141648Z
UID:27770-1682965800-1682971200@www.shamesjcc.org
SUMMARY:Identity\, Politics\, and Law in Israel Today: What’s Next?
DESCRIPTION:How are issues of identity\, history\, politics\, and law impacting current events in Israel today? As we commemorate Israel@75\, join Masua Sagiv\, Scholar in Residence of the Shalom Hartman Institute based in the San Francisco Bay Area and the Koret Visiting Assistant Professor of Jewish and Israel Studies at U.C. Berkeley\, as she explores the challenges and opportunities facing Israel today and what they might mean for the future of the Jewish State. \n 
URL:https://www.shamesjcc.org/event/identity-politics-and-law-in-israel-today-whats-next/
CATEGORIES:Jewish Life
ATTACH;FMTTYPE=image/jpeg:https://www.shamesjcc.org/wp-content/uploads/2023/04/Israel@75_1140x720_image-for-Masua-Sagiv.jpg
END:VEVENT
BEGIN:VEVENT
DTSTART;TZID=America/New_York:20230523T100000
DTEND;TZID=America/New_York:20230523T110000
DTSTAMP:20260422T210336
CREATED:20230403T181205Z
LAST-MODIFIED:20230516T160042Z
UID:27744-1684836000-1684839600@www.shamesjcc.org
SUMMARY:Project Genesis: An Interfaith Conversation Between Two Clergy
DESCRIPTION:Project Genesis: An Interfaith Conversation Between Two Clergy\nSibling rivalry can be incredibly complicated- Joseph’s story \nThere is more to the Joseph story than Joseph and the Amazing Technicolor Dreamcoat. It certainly doesn’t begin or end there. If we hadn’t gotten the message about the real-life dangers of sibling rivalry from earlier Genesis stories\, this one makes it all too painfully clear on what happens when a parent prefers one child over another. \nProject Genesis: The same story can have multiple meanings. The books of the Old Testament in particular are ripe with symbol\, metaphor\, and character\, providing the reader with the opportunity to unpack and analyze the meanings. In Project Genesis\, we will discuss different interpretations of some of the beloved stories we learned as children and now revisit as adults.
URL:https://www.shamesjcc.org/event/project-genesis-an-interfaith-conversation-between-two-clergy-5/
CATEGORIES:Jewish Life
ATTACH;FMTTYPE=image/png:https://www.shamesjcc.org/wp-content/uploads/2023/04/Copy-of-Project-Genesis-Facebook-Cover.png
END:VEVENT
END:VCALENDAR