BEGIN:VCALENDAR
VERSION:2.0
PRODID:-//Shames JCC - ECPv6.1.3//NONSGML v1.0//EN
CALSCALE:GREGORIAN
METHOD:PUBLISH
X-ORIGINAL-URL:https://www.shamesjcc.org
X-WR-CALDESC:Events for Shames JCC
REFRESH-INTERVAL;VALUE=DURATION:PT1H
X-Robots-Tag:noindex
X-PUBLISHED-TTL:PT1H
BEGIN:VTIMEZONE
TZID:America/New_York
BEGIN:DAYLIGHT
TZOFFSETFROM:-0500
TZOFFSETTO:-0400
TZNAME:EDT
DTSTART:20220313T070000
END:DAYLIGHT
BEGIN:STANDARD
TZOFFSETFROM:-0400
TZOFFSETTO:-0500
TZNAME:EST
DTSTART:20221106T060000
END:STANDARD
END:VTIMEZONE
BEGIN:VEVENT
DTSTART;TZID=America/New_York:20221018T090000
DTEND;TZID=America/New_York:20221018T130000
DTSTAMP:20260421T031805
CREATED:20221017T182640Z
LAST-MODIFIED:20221017T185057Z
UID:26384-1666083600-1666098000@www.shamesjcc.org
SUMMARY:Fused Glass Pop-Up with Abe Rosenthal
DESCRIPTION:JCC member Abe Rosenthal has been working with fused glass since he retired ten years ago\, and will be setting up a pop-up shop at the J selling a beautiful selection of homemade objects in our lobby! From large plates to trinket dishes\, necklaces and paperweights\, come see and purchase new items to treat yourself or buy a gift for a special someone.
URL:https://www.shamesjcc.org/event/fused-glass-pop-up-with-abe-rosenthal/
CATEGORIES:Community-Wide Program
ATTACH;FMTTYPE=image/jpeg:https://www.shamesjcc.org/wp-content/uploads/2022/10/Green-Minimalist-Leaf-Photo-Collage.jpg
END:VEVENT
END:VCALENDAR