BEGIN:VCALENDAR
VERSION:2.0
PRODID:-//Shames JCC - ECPv6.1.3//NONSGML v1.0//EN
CALSCALE:GREGORIAN
METHOD:PUBLISH
X-ORIGINAL-URL:https://www.shamesjcc.org
X-WR-CALDESC:Events for Shames JCC
REFRESH-INTERVAL;VALUE=DURATION:PT1H
X-Robots-Tag:noindex
X-PUBLISHED-TTL:PT1H
BEGIN:VTIMEZONE
TZID:America/New_York
BEGIN:DAYLIGHT
TZOFFSETFROM:-0500
TZOFFSETTO:-0400
TZNAME:EDT
DTSTART:20220313T070000
END:DAYLIGHT
BEGIN:STANDARD
TZOFFSETFROM:-0400
TZOFFSETTO:-0500
TZNAME:EST
DTSTART:20221106T060000
END:STANDARD
END:VTIMEZONE
BEGIN:VEVENT
DTSTART;TZID=America/New_York:20220911T110000
DTEND;TZID=America/New_York:20220911T120000
DTSTAMP:20260421T064317
CREATED:20220823T153921Z
LAST-MODIFIED:20220823T154050Z
UID:25965-1662894000-1662897600@www.shamesjcc.org
SUMMARY:How to be a Mensch Monster\, Read Aloud with Leslie Kimmelman
DESCRIPTION:Join the JCC for a family-friendly day of 9/11 Day of Service activity and read aloud with Author Leslie Kimmelman\nIt may be hard for you to believe\, but some people are afraid of monsters. While it’s true that monsters sometimes look scary\, actually most of them are kind and helpful. Monsters can even be mensches! Come join a friendly monster guide as it demonstrates all the different ways of being a mensch\, whether you have three heads–or just one. Then stay and practice to be a mensch yourself! \nAbout the Author: \nLeslie Kimmelman is the author of more than 50 books for children\, including a large number with Jewish topics. Her books have won many national and state awards\, and five of her books have been recognized by the Sydney Taylor committee\, which presents annual awards for outstanding children’s books that authentically portray the Jewish experience. Leslie was a children’s book editor for decades\, and worked at Sesame Workshop for almost 25 years. She lives in Westchester County. Visit her at lesliekimmelman.com.
URL:https://www.shamesjcc.org/event/how-to-be-a-mensch-monster-read-aloud-with-leslie-kimmelman/
CATEGORIES:Community-Wide Program,Families
ATTACH;FMTTYPE=image/jpeg:https://www.shamesjcc.org/wp-content/uploads/2022/08/images-2.jpg
END:VEVENT
BEGIN:VEVENT
DTSTART;TZID=America/New_York:20220916T120000
DTEND;TZID=America/New_York:20220916T150000
DTSTAMP:20260421T064317
CREATED:20220628T200129Z
LAST-MODIFIED:20220628T200129Z
UID:25695-1663329600-1663340400@www.shamesjcc.org
SUMMARY:Community Wardrobe Back-to-School Shopping Days
DESCRIPTION:Community Wardrobe back-to-school shopping days!\nTime is TBD\, come back to our website for updated times\nAnd of course\, the CW will continue to serve families with emergencies throughout the summer.\n 
URL:https://www.shamesjcc.org/event/community-wardrobe-back-to-school-shopping-days/
CATEGORIES:Community-Wide Program,Families
ATTACH;FMTTYPE=image/jpeg:https://www.shamesjcc.org/wp-content/uploads/2022/06/4105047-scaled.jpg
END:VEVENT
BEGIN:VEVENT
DTSTART;TZID=America/New_York:20220916T120000
DTEND;TZID=America/New_York:20220916T150000
DTSTAMP:20260421T064317
CREATED:20220628T200129Z
LAST-MODIFIED:20220628T200129Z
UID:25695-1663329600-1663340400@www.shamesjcc.org
SUMMARY:Community Wardrobe Back-to-School Shopping Days
DESCRIPTION:Community Wardrobe back-to-school shopping days!\nTime is TBD\, come back to our website for updated times\nAnd of course\, the CW will continue to serve families with emergencies throughout the summer.\n 
URL:https://www.shamesjcc.org/event/community-wardrobe-back-to-school-shopping-days/
CATEGORIES:Community-Wide Program,Families
ATTACH;FMTTYPE=image/jpeg:https://www.shamesjcc.org/wp-content/uploads/2022/06/4105047-scaled.jpg
END:VEVENT
BEGIN:VEVENT
DTSTART;TZID=America/New_York:20220917T193000
DTEND;TZID=America/New_York:20220917T223000
DTSTAMP:20260421T064317
CREATED:20220711T154226Z
LAST-MODIFIED:20220914T181256Z
UID:25757-1663443000-1663453800@www.shamesjcc.org
SUMMARY:Lot Party Fundraiser
DESCRIPTION:We’ll have food from Flores Food Truck\, Dough Nation\, and Bill’s Good Humor Ice Cream truck; beer\, wine\, and canned spirits from Captain Lawrence; music from DJ Catch22; beer pong; raffles and prizes\, and more! \nThis fundraiser will raise money to help the Shames JCC thrive across our programs\, such as: \n\nSupporting our littlest learners in our early childhood program\nBuilding more opportunities for social action and community service\nExpanding support services for community members with special needs\nGrowing our educational programs for seniors\n***You must be age 21+ to attend this event. This event will be held outdoors. RAIN OR SHINE! ***\n\nBeer Pong Tournament Registration: \nPlease select that Add-On to your ticket purchase. $40 per team to enter (solo players ($20) can be matched with others looking for a partner). Tournament entry price will increase on the night of the event. \nThank You to our Host Committee: :Carlie Finkle\, Beth Fossner\, Brandi Kligman\, Kelly Politzer\, Leslie Alkalay Rafal\, Arielle Rosenblum\, Emily Sobol\, Liza Wang\, Sarah Weiss\, and Stacy Sadove Zbeda \nThank You to our Event Sponsors: \n\nLevitt-Fuirst Insurance\, WhizKidz Tutoring\nArdsley Family Dental\, ENT and Allergy Associates\, Olafe\, ProClinix\nFitzgerald & Sadove PLLC \, Marinelli’s Village Pharmacy\nAllan Block Insurance\, Aries Wine & Spirits\, Atlantic\, Tomorrow’s Office\, Crown Janitorial Products\, No Limits Performing Arts Studio\, Northeast Elite Basketball\, Promosmith\n\nREGISTER
URL:https://www.shamesjcc.org/event/save-date-lot-party/
CATEGORIES:Community-Wide Program
ATTACH;FMTTYPE=image/jpeg:https://www.shamesjcc.org/wp-content/uploads/2022/07/LotPartyWebHero-01-scaled.jpg
END:VEVENT
BEGIN:VEVENT
DTSTART;TZID=America/New_York:20220916T120000
DTEND;TZID=America/New_York:20220916T150000
DTSTAMP:20260421T064317
CREATED:20220628T200129Z
LAST-MODIFIED:20220628T200129Z
UID:25695-1663329600-1663340400@www.shamesjcc.org
SUMMARY:Community Wardrobe Back-to-School Shopping Days
DESCRIPTION:Community Wardrobe back-to-school shopping days!\nTime is TBD\, come back to our website for updated times\nAnd of course\, the CW will continue to serve families with emergencies throughout the summer.\n 
URL:https://www.shamesjcc.org/event/community-wardrobe-back-to-school-shopping-days/
CATEGORIES:Community-Wide Program,Families
ATTACH;FMTTYPE=image/jpeg:https://www.shamesjcc.org/wp-content/uploads/2022/06/4105047-scaled.jpg
END:VEVENT
END:VCALENDAR