BEGIN:VCALENDAR
VERSION:2.0
PRODID:-//Shames JCC - ECPv6.1.3//NONSGML v1.0//EN
CALSCALE:GREGORIAN
METHOD:PUBLISH
X-ORIGINAL-URL:https://www.shamesjcc.org
X-WR-CALDESC:Events for Shames JCC
REFRESH-INTERVAL;VALUE=DURATION:PT1H
X-Robots-Tag:noindex
X-PUBLISHED-TTL:PT1H
BEGIN:VTIMEZONE
TZID:America/New_York
BEGIN:DAYLIGHT
TZOFFSETFROM:-0500
TZOFFSETTO:-0400
TZNAME:EDT
DTSTART:20260308T070000
END:DAYLIGHT
BEGIN:STANDARD
TZOFFSETFROM:-0400
TZOFFSETTO:-0500
TZNAME:EST
DTSTART:20261101T060000
END:STANDARD
END:VTIMEZONE
BEGIN:VEVENT
DTSTART;TZID=America/New_York:20260531T090000
DTEND;TZID=America/New_York:20260531T113000
DTSTAMP:20260424T000656
CREATED:20260415T181734Z
LAST-MODIFIED:20260415T181734Z
UID:35133-1780218000-1780227000@www.shamesjcc.org
SUMMARY:Family Field Day
DESCRIPTION:Calling all families: the JCC’s first-ever Family Field Day is on! Coach D from Backyard PE will keep kids and parents moving and make sure everyone has a blast with sports and rec games and relay races. Each activity is designed to be accessible for little ones while keeping older kids engaged and challenged. We’ll also enjoy snacks\, crafts\, and classic picnic fun. Don’t forget to wear sneakers for all the running and playing and feel free to bring a blanket for picnicking. Rain or shine; in case of severe weather\, we will move indoors. \nSuggested donation $10 per family.\nRecommended for families with children 10 and under
URL:https://www.shamesjcc.org/event/family-field-day-2/
ATTACH;FMTTYPE=image/jpeg:https://www.shamesjcc.org/wp-content/uploads/2026/04/family-field-day-.jpg
END:VEVENT
END:VCALENDAR