BEGIN:VCALENDAR
VERSION:2.0
PRODID:-//Shames JCC - ECPv6.1.3//NONSGML v1.0//EN
CALSCALE:GREGORIAN
METHOD:PUBLISH
X-ORIGINAL-URL:https://www.shamesjcc.org
X-WR-CALDESC:Events for Shames JCC
REFRESH-INTERVAL;VALUE=DURATION:PT1H
X-Robots-Tag:noindex
X-PUBLISHED-TTL:PT1H
BEGIN:VTIMEZONE
TZID:America/New_York
BEGIN:DAYLIGHT
TZOFFSETFROM:-0500
TZOFFSETTO:-0400
TZNAME:EDT
DTSTART:20260308T070000
END:DAYLIGHT
BEGIN:STANDARD
TZOFFSETFROM:-0400
TZOFFSETTO:-0500
TZNAME:EST
DTSTART:20261101T060000
END:STANDARD
END:VTIMEZONE
BEGIN:VEVENT
DTSTART;TZID=America/New_York:20260528T190000
DTEND;TZID=America/New_York:20260528T220000
DTSTAMP:20260419T142535
CREATED:20260303T212334Z
LAST-MODIFIED:20260317T162104Z
UID:34972-1779994800-1780005600@www.shamesjcc.org
SUMMARY:Shames JCC Gala
DESCRIPTION:Join us for a special evening to celebrate the Harold & Elaine Shames JCC on the Hudson \nHonoring \nEarly Childhood Center Leaders Ann Zarider and Ronnie Brockman \nNew this Year \nOpen seating\, lounge-style format\nPassed fare & food stations all evening\nSpecial tribute program honoring Ann and Ronnie\nSilent auction + live music finale with The Uptown Boys (Billy Joel cover band) \n*Can’t make the gala? You can still be part of Ann and Ronnie’s tribute book; click here for more information. \nTickets and Sponsorship Information
URL:https://www.shamesjcc.org/event/shames-jcc-benefit/
CATEGORIES:Adult Enrichment
ATTACH;FMTTYPE=image/jpeg:https://www.shamesjcc.org/wp-content/uploads/2026/03/Gala-STD-2026-1.jpg
END:VEVENT
END:VCALENDAR