BEGIN:VCALENDAR
VERSION:2.0
PRODID:-//Shames JCC - ECPv6.1.3//NONSGML v1.0//EN
CALSCALE:GREGORIAN
METHOD:PUBLISH
X-WR-CALNAME:Shames JCC
X-ORIGINAL-URL:https://www.shamesjcc.org
X-WR-CALDESC:Events for Shames JCC
REFRESH-INTERVAL;VALUE=DURATION:PT1H
X-Robots-Tag:noindex
X-PUBLISHED-TTL:PT1H
BEGIN:VTIMEZONE
TZID:America/New_York
BEGIN:DAYLIGHT
TZOFFSETFROM:-0500
TZOFFSETTO:-0400
TZNAME:EDT
DTSTART:20260308T070000
END:DAYLIGHT
BEGIN:STANDARD
TZOFFSETFROM:-0400
TZOFFSETTO:-0500
TZNAME:EST
DTSTART:20261101T060000
END:STANDARD
END:VTIMEZONE
BEGIN:VEVENT
DTSTART;TZID=America/New_York:20260506T080000
DTEND;TZID=America/New_York:20260506T210000
DTSTAMP:20260419T102308
CREATED:20260327T140855Z
LAST-MODIFIED:20260415T180552Z
UID:35081-1778054400-1778101200@www.shamesjcc.org
SUMMARY:Group Outing: A Jewish Journey Through Revolutionary Philadelphia
DESCRIPTION:Bus departs JCC at 9:00 am and returns around 9:00 pm\n$150 members; $165 non-members \nCelebrate America’s 250th birthday with a meaningful day trip to Philadelphia\, where Jewish history and the American Revolution come to life. \nOur day begins with a tour and lunch at the historic Congregation Mikveh Israel\, the nation’s oldest continually-used synagogue. Afterwards\, we’ll walk through the nearby Old City with historian (and world-famous Ben Franklin impersonator!) Mitchell Kramer\, who makes Revolutionary-era Philadelphia come alive Then we’ll enjoy a private\, docent-led tour at the Weitzman Museum of American Jewish History. Our full day ends with stories and reflections over a relaxed\, Mediterranean dinner at Estia Restaurant. \nThis experience includes round-trip transportation from the J by comfortable coach bus\, all admission fees\, lunch\, and a 3-course dinner. Please note: while there are opportunities to sit\, participants should be comfortable walking between nearby sites. \nSchedule: \n8:00 am: Bus leaves JCC \n11:00 am: Arrive at Congregation Mikveh Israel for tour \n12:00 pm: Kosher lunch in synagogue social hall \n12:45 pm: Walking tour of Old City \n3:00 pm: Tour at Weitzman Museum \n4:30 pm: Short bus ride to dinner \n5:00 pm: Dinner at Estia \n6:30 pm: Depart Philadelphia \n8:45 pm: Arrive at the JCC \nRegister
URL:https://www.shamesjcc.org/event/group-outing-a-jewish-journey-through-revolutionary-philadelphia/
ATTACH;FMTTYPE=image/jpeg:https://www.shamesjcc.org/wp-content/uploads/2026/03/philly-house.jpg
END:VEVENT
BEGIN:VEVENT
DTSTART;TZID=America/New_York:20260506T113000
DTEND;TZID=America/New_York:20260506T130000
DTSTAMP:20260419T102308
CREATED:20250811T165655Z
LAST-MODIFIED:20250811T165655Z
UID:33796-1778067000-1778072400@www.shamesjcc.org
SUMMARY:Hot Topics
DESCRIPTION:FREE for members & non-members \nDiscuss the month’s social and political issues with your fellow news enthusiasts. With timely and changing international\, national\, and local issues from the news arenas of government\, arts\, sports\, science\, and religion\, we welcome all participants to voice their ideas. All points of view are welcome in this lively\, thought-provoking\, and civil discussion. Feel free to bring your lunch and/or a friend!
URL:https://www.shamesjcc.org/event/hot-topics-22/
ATTACH;FMTTYPE=image/jpeg:https://www.shamesjcc.org/wp-content/uploads/2020/05/newspapers-folded-form-background_100488-637.jpg
END:VEVENT
END:VCALENDAR