BEGIN:VCALENDAR
VERSION:2.0
PRODID:-//Shames JCC - ECPv6.1.3//NONSGML v1.0//EN
CALSCALE:GREGORIAN
METHOD:PUBLISH
X-WR-CALNAME:Shames JCC
X-ORIGINAL-URL:https://www.shamesjcc.org
X-WR-CALDESC:Events for Shames JCC
REFRESH-INTERVAL;VALUE=DURATION:PT1H
X-Robots-Tag:noindex
X-PUBLISHED-TTL:PT1H
BEGIN:VTIMEZONE
TZID:America/New_York
BEGIN:DAYLIGHT
TZOFFSETFROM:-0500
TZOFFSETTO:-0400
TZNAME:EDT
DTSTART:20260308T070000
END:DAYLIGHT
BEGIN:STANDARD
TZOFFSETFROM:-0400
TZOFFSETTO:-0500
TZNAME:EST
DTSTART:20261101T060000
END:STANDARD
END:VTIMEZONE
BEGIN:VEVENT
DTSTART;TZID=America/New_York:20260416T123000
DTEND;TZID=America/New_York:20260416T140000
DTSTAMP:20260424T011211
CREATED:20260326T150405Z
LAST-MODIFIED:20260326T150509Z
UID:35068-1776342600-1776348000@www.shamesjcc.org
SUMMARY:Lunch Outing: Umi Sushi & Seafood Buffet
DESCRIPTION:$24 cash includes all food\, tax\, tip\, and optional r/t transportation from the J\n395 Tarrytown Rd\, White Plains\, NY 10607 (Crossroads Shopping Center)\n \nBring a big appetite and join us for an all-you-can-eat Asian lunch at Umi! You’ll want to go back for seconds (and thirds) of sushi\, seafood\, vegetables\, ramen\, hotpot\, and more at this fresh and flavorful spot. Your meal includes unlimited visits to their buffet\, beverage\, tax\, and tip. Space is limited to 20 – sign up early! \nNOTE: We will be meeting at Umi\, 395 Tarrytown Rd\, White Plains\, NY 10607 (Crossroads Shopping Center). Free parking is available in the parking lot. Need a ride from home or the JCC? Email Rena for options! \nRegister\n (no cancellations after 4/14)
URL:https://www.shamesjcc.org/event/lunch-outing-umi-sushi-seafood-buffet/
ATTACH;FMTTYPE=image/png:https://www.shamesjcc.org/wp-content/uploads/2026/03/Japanese_Appetizers@1x.12ec824e.png
END:VEVENT
BEGIN:VEVENT
DTSTART;TZID=America/New_York:20260416T130000
DTEND;TZID=America/New_York:20260416T140000
DTSTAMP:20260424T011211
CREATED:20260324T162136Z
LAST-MODIFIED:20260325T162044Z
UID:35036-1776344400-1776348000@www.shamesjcc.org
SUMMARY:Common Ground–Tithing\, Taxing\, and Membership Dues
DESCRIPTION:Tithing\, Taxing\, and Membership Dues–The history\, philosophy\, and responsibility to financially support the community.\nFREE for members and non-members \nThis tax-day inspired conversation with Rabbi Jay Stein (Greenberg Hebrew Center) and Rev. Wren Hillis (Commissioned Elder of The United Methodist Church; Lead Pastor of Aldersgate UMC and Ardsley UMC;  NY Methodist Conference Archivist) we will explore our shared questions about financial support for communal organizations.  Rabbi Ron Symons and Rev. Gareth Evans are pleased to host this conversation. \nRegister \n 
URL:https://www.shamesjcc.org/event/common-ground-tithing-taxing-and-membership-dues/
ATTACH;FMTTYPE=image/jpeg:https://www.shamesjcc.org/wp-content/uploads/2026/03/Copy-of-Website-Image-Hero-5.jpg
END:VEVENT
BEGIN:VEVENT
DTSTART;TZID=America/New_York:20260416T193000
DTEND;TZID=America/New_York:20260416T213000
DTSTAMP:20260424T011211
CREATED:20260324T171138Z
LAST-MODIFIED:20260324T171138Z
UID:35042-1776367800-1776375000@www.shamesjcc.org
SUMMARY:Lisa Loeb Live at The Ark
DESCRIPTION:Experience Lisa Loeb up close in an intimate acoustic performance and conversation about the stories behind her iconic songs.\nDon’t miss a rare chance to experience singer-songwriter Lisa Loeb up close and unplugged. We’ll transform The Ark into an intimate listening room for a special acoustic set filled with the heartfelt storytelling and iconic melodies that made Lisa a beloved voice in music. \nFrom the timeless hit “Stay (I Missed You)” to new favorites\, this stripped-down performance highlights the warmth\, wit\, and honesty that define her songs. \nThe evening also includes a special 20-minute Q&A with JCC CEO Adam Weiss\, offering a chance to hear Lisa share the stories behind the music. \nAbout Lisa Loeb: \nWith a legacy of nearly 20 studio albums and EPs\, multiple entrepreneurial ventures\, her own weekday SiriusXM radio show on ’90s on 9\, and a proliferation of TV\, film\, commercial\, and voiceover work\, the Grammy-winning singer-songwriter behind such era-defining hits like ‘Stay (I Missed You)’ from Reality Bites and ‘I Do\,’ continues to cement her status as one of the entertainment industry’s hardest working\, most creative and revered musical artists. \nCash bar; doors open at 7 \n 
URL:https://www.shamesjcc.org/event/lisa-loeb-live-at-the-ark/
CATEGORIES:Adult Enrichment
ATTACH;FMTTYPE=image/jpeg:https://www.shamesjcc.org/wp-content/uploads/2026/03/Lisa-Loeb-2.jpg
END:VEVENT
END:VCALENDAR