BEGIN:VCALENDAR
VERSION:2.0
PRODID:-//Shames JCC - ECPv6.1.3//NONSGML v1.0//EN
CALSCALE:GREGORIAN
METHOD:PUBLISH
X-ORIGINAL-URL:https://www.shamesjcc.org
X-WR-CALDESC:Events for Shames JCC
REFRESH-INTERVAL;VALUE=DURATION:PT1H
X-Robots-Tag:noindex
X-PUBLISHED-TTL:PT1H
BEGIN:VTIMEZONE
TZID:America/New_York
BEGIN:DAYLIGHT
TZOFFSETFROM:-0500
TZOFFSETTO:-0400
TZNAME:EDT
DTSTART:20260308T070000
END:DAYLIGHT
BEGIN:STANDARD
TZOFFSETFROM:-0400
TZOFFSETTO:-0500
TZNAME:EST
DTSTART:20261101T060000
END:STANDARD
END:VTIMEZONE
BEGIN:VEVENT
DTSTART;TZID=America/New_York:20260411T110000
DTEND;TZID=America/New_York:20260411T150000
DTSTAMP:20260419T103027
CREATED:20260313T203849Z
LAST-MODIFIED:20260317T181752Z
UID:35004-1775905200-1775919600@www.shamesjcc.org
SUMMARY:Parkinson’s Symposium
DESCRIPTION:Parkinson’s Symposium\nFREE \nRegister (in-person at the J) \nRegister (virtual\, on zoom) \nIndividuals with Parkinson’s\, as well as their family\, friends\, and community\, are invited to hear renowned speakers from the Parkinson’s Foundation Centers of Excellence discuss current and upcoming treatments\, ongoing research\, and resources available to help live your best life with Parkinson’s. \n 
URL:https://www.shamesjcc.org/event/parkinsons-symposium/
CATEGORIES:Supportive Services
ATTACH;FMTTYPE=image/jpeg:https://www.shamesjcc.org/wp-content/uploads/2026/03/Copy-of-Website-Image-Hero-1.jpg
END:VEVENT
END:VCALENDAR