BEGIN:VCALENDAR
VERSION:2.0
PRODID:-//Shames JCC - ECPv6.1.3//NONSGML v1.0//EN
CALSCALE:GREGORIAN
METHOD:PUBLISH
X-WR-CALNAME:Shames JCC
X-ORIGINAL-URL:https://www.shamesjcc.org
X-WR-CALDESC:Events for Shames JCC
REFRESH-INTERVAL;VALUE=DURATION:PT1H
X-Robots-Tag:noindex
X-PUBLISHED-TTL:PT1H
BEGIN:VTIMEZONE
TZID:America/New_York
BEGIN:DAYLIGHT
TZOFFSETFROM:-0500
TZOFFSETTO:-0400
TZNAME:EDT
DTSTART:20260308T070000
END:DAYLIGHT
BEGIN:STANDARD
TZOFFSETFROM:-0400
TZOFFSETTO:-0500
TZNAME:EST
DTSTART:20261101T060000
END:STANDARD
END:VTIMEZONE
BEGIN:VEVENT
DTSTART;TZID=America/New_York:20260407T100000
DTEND;TZID=America/New_York:20260407T110000
DTSTAMP:20260423T154840
CREATED:20260324T152419Z
LAST-MODIFIED:20260330T201316Z
UID:35032-1775556000-1775559600@www.shamesjcc.org
SUMMARY:A Time To Remember: A Passover Yizkor (Memorial) Conversation
DESCRIPTION:FREE for members and non-members \nAs the winter turns into spring\, the Jewish calendar offers us a time to remember those who have died over the years. Our quiet conversation will be inspired by Jewish passages with opportunities for personal reflection and sharing. Join us for a morsel of matzah (with a schmear) and a moment of memory including the Memorial Prayer and Kaddish. We welcome you regardless of your religious background or practice. \nRegister
URL:https://www.shamesjcc.org/event/a-time-to-remember-a-passover-yizkor-memorial-conversation/
ATTACH;FMTTYPE=image/jpeg:https://www.shamesjcc.org/wp-content/uploads/2026/03/candle-hero.jpg
END:VEVENT
BEGIN:VEVENT
DTSTART;TZID=America/New_York:20260407T120000
DTEND;TZID=America/New_York:20260407T130000
DTSTAMP:20260423T154840
CREATED:20251210T164816Z
LAST-MODIFIED:20251210T164816Z
UID:34567-1775563200-1775566800@www.shamesjcc.org
SUMMARY:Third Act Circle: A Peer Support Group
DESCRIPTION:FREE for members and non-members \nThose experiencing the stage of life referred to as “the third act” are invited to come together to talk\, laugh\, share stories\, and support one another through life’s ups and downs. Whether you’re navigating retirement\, dealing with health changes\, coping with loss\, or just looking to connect with others in a similar life stage\, this group offers a place where you can feel heard and understood. Facilitated by Rena\, the focus is on encouragement and community.
URL:https://www.shamesjcc.org/event/third-act-circle-a-peer-support-group-12-2-2-2-2-2-2-2/
ATTACH;FMTTYPE=image/jpeg:https://www.shamesjcc.org/wp-content/uploads/2025/07/GroupTherapySession.jpg
END:VEVENT
BEGIN:VEVENT
DTSTART;TZID=America/New_York:20260407T143000
DTEND;TZID=America/New_York:20260407T173000
DTSTAMP:20260423T154840
CREATED:20260406T204044Z
LAST-MODIFIED:20260407T185956Z
UID:35099-1775572200-1775583000@www.shamesjcc.org
SUMMARY:Shames JCC Youth Expo!
DESCRIPTION:Stop by the Quad for a fun\, interactive afternoon showcasing the full range of youth programs at the J — from early childhood through the teen years. \nThis is a drop-in\, explore-at-your-own-pace event where families can meet our incredible staff\, jump into hands-on activities\, and see what’s next as your children grow at the J. Whether you’re already part of one program or many\, this is a great opportunity to experience everything we offer. \nCome explore\, connect\, and enjoy some fun.
URL:https://www.shamesjcc.org/event/shames-jcc-youth-expo/
ATTACH;FMTTYPE=image/jpeg:https://www.shamesjcc.org/wp-content/uploads/2020/12/Happy-Kids.jpg
END:VEVENT
END:VCALENDAR