BEGIN:VCALENDAR
VERSION:2.0
PRODID:-//Shames JCC - ECPv6.1.3//NONSGML v1.0//EN
CALSCALE:GREGORIAN
METHOD:PUBLISH
X-WR-CALNAME:Shames JCC
X-ORIGINAL-URL:https://www.shamesjcc.org
X-WR-CALDESC:Events for Shames JCC
REFRESH-INTERVAL;VALUE=DURATION:PT1H
X-Robots-Tag:noindex
X-PUBLISHED-TTL:PT1H
BEGIN:VTIMEZONE
TZID:America/New_York
BEGIN:DAYLIGHT
TZOFFSETFROM:-0500
TZOFFSETTO:-0400
TZNAME:EDT
DTSTART:20260308T070000
END:DAYLIGHT
BEGIN:STANDARD
TZOFFSETFROM:-0400
TZOFFSETTO:-0500
TZNAME:EST
DTSTART:20261101T060000
END:STANDARD
END:VTIMEZONE
BEGIN:VEVENT
DTSTART;TZID=America/New_York:20260128T113000
DTEND;TZID=America/New_York:20260128T133000
DTSTAMP:20260423T171808
CREATED:20260119T201055Z
LAST-MODIFIED:20260119T201055Z
UID:34788-1769599800-1769607000@www.shamesjcc.org
SUMMARY:Documentary Screening: "Brighton Beach"
DESCRIPTION:FREE for members & non-members\nrunning time 60 mins plus time for discussion\n \nSet against the iconic Coney Island boardwalk\, Brighton Beach is a neighborhood in constant re-formation. Now with a 4K restoration\, this 1980 documentary offers a vérité portrait of the immigrant communities that changed the Brooklyn neighborhood—mostly Soviet Jews and Puerto Ricans—as they mingle on the boardwalk with long-time residents and coexist around a shared sense of uprootedness. From directors Susan Wittenberg and Carol Stein\, Brighton Beach documents life’s simple pleasures and the creating of a community.
URL:https://www.shamesjcc.org/event/documentary-screening-brighton-beach/
ATTACH;FMTTYPE=image/png:https://www.shamesjcc.org/wp-content/uploads/2026/01/Brighton-Beach.png
END:VEVENT
END:VCALENDAR