BEGIN:VCALENDAR
VERSION:2.0
PRODID:-//Shames JCC - ECPv6.1.3//NONSGML v1.0//EN
CALSCALE:GREGORIAN
METHOD:PUBLISH
X-ORIGINAL-URL:https://www.shamesjcc.org
X-WR-CALDESC:Events for Shames JCC
REFRESH-INTERVAL;VALUE=DURATION:PT1H
X-Robots-Tag:noindex
X-PUBLISHED-TTL:PT1H
BEGIN:VTIMEZONE
TZID:America/New_York
BEGIN:DAYLIGHT
TZOFFSETFROM:-0500
TZOFFSETTO:-0400
TZNAME:EDT
DTSTART:20260308T070000
END:DAYLIGHT
BEGIN:STANDARD
TZOFFSETFROM:-0400
TZOFFSETTO:-0500
TZNAME:EST
DTSTART:20261101T060000
END:STANDARD
END:VTIMEZONE
BEGIN:VEVENT
DTSTART;TZID=America/New_York:20260113T100000
DTEND;TZID=America/New_York:20260113T140000
DTSTAMP:20260423T012513
CREATED:20251223T183803Z
LAST-MODIFIED:20251223T183803Z
UID:34674-1768298400-1768312800@www.shamesjcc.org
SUMMARY:Community Service Drop-In: Help Prep for MLK Day of Service
DESCRIPTION:We need your help for as long as you can give us on any of these days. \nTo get ready for our MLK Day of Service on Jan 19\, we need your help cutting fabric that will comprise no-sew blankets for neighbors at local food pantries. Please drop in to help for as long as you can on any of these days.
URL:https://www.shamesjcc.org/event/community-service-drop-in-help-prep-for-mlk-day-of-service-2/
ATTACH;FMTTYPE=image/png:https://www.shamesjcc.org/wp-content/uploads/2025/12/no-sew-blankets-mlk.png
END:VEVENT
BEGIN:VEVENT
DTSTART;TZID=America/New_York:20260113T120000
DTEND;TZID=America/New_York:20260113T130000
DTSTAMP:20260423T012513
CREATED:20251210T155533Z
LAST-MODIFIED:20251210T155533Z
UID:34542-1768305600-1768309200@www.shamesjcc.org
SUMMARY:Third Act Circle: A Peer Support Group
DESCRIPTION:FREE for members and non-members \nThose experiencing the stage of life referred to as “the third act” are invited to come together to talk\, laugh\, share stories\, and support one another through life’s ups and downs. Whether you’re navigating retirement\, dealing with health changes\, coping with loss\, or just looking to connect with others in a similar life stage\, this group offers a place where you can feel heard and understood. Facilitated by Rena\, the focus is on encouragement and community.
URL:https://www.shamesjcc.org/event/third-act-circle-a-peer-support-group-12-2/
ATTACH;FMTTYPE=image/jpeg:https://www.shamesjcc.org/wp-content/uploads/2025/07/GroupTherapySession.jpg
END:VEVENT
BEGIN:VEVENT
DTSTART;TZID=America/New_York:20260113T130000
DTEND;TZID=America/New_York:20260113T143000
DTSTAMP:20260423T012513
CREATED:20251125T151035Z
LAST-MODIFIED:20251125T151035Z
UID:34475-1768309200-1768314600@www.shamesjcc.org
SUMMARY:JCCU: Comparative African Modern Art—The Harlem Renaissance and Modernism
DESCRIPTION:Members: $15; non-members: $20 for the series (drop ins also welcome) \nArt historian Serdar Arat is back with a two-part lecture series that looks at how African and African-diasporic artists helped shape modern art around the world. We’ll explore the Harlem Renaissance alongside European modernists to see how artists learned from one another and pushed new styles forward. We’ll also look at global traditions that inspired Western art in the 19th and 20th centuries. These talks offer an accessible\, visually rich look at how cultures connect and influence each other through art. \nThis session:Referencing Metropolitan Museum’s groundbreaking exhibition\, “The Harlem Renaissance and Transatlantic Modernism\,” we will explore the masterworks of major Harlem Renaissance artists including Jacob Lawrence\, Agusta Savage\, Archibald Motley\, and others\, in dialogue with their European counterparts such as Picasso\, Braque\, and Gaugin. We will compare and analyze  American and European\, realistic and abstract\, and traditional and modern art.
URL:https://www.shamesjcc.org/event/jccu-comparative-african-modern-art-the-harlem-renaissance-and-modernism/
ATTACH;FMTTYPE=image/png:https://www.shamesjcc.org/wp-content/uploads/2025/11/african-art.png
END:VEVENT
END:VCALENDAR