BEGIN:VCALENDAR
VERSION:2.0
PRODID:-//Shames JCC - ECPv6.1.3//NONSGML v1.0//EN
CALSCALE:GREGORIAN
METHOD:PUBLISH
X-ORIGINAL-URL:https://www.shamesjcc.org
X-WR-CALDESC:Events for Shames JCC
REFRESH-INTERVAL;VALUE=DURATION:PT1H
X-Robots-Tag:noindex
X-PUBLISHED-TTL:PT1H
BEGIN:VTIMEZONE
TZID:America/New_York
BEGIN:DAYLIGHT
TZOFFSETFROM:-0500
TZOFFSETTO:-0400
TZNAME:EDT
DTSTART:20250309T070000
END:DAYLIGHT
BEGIN:STANDARD
TZOFFSETFROM:-0400
TZOFFSETTO:-0500
TZNAME:EST
DTSTART:20251102T060000
END:STANDARD
END:VTIMEZONE
BEGIN:VEVENT
DTSTART;TZID=America/New_York:20251231T104500
DTEND;TZID=America/New_York:20251231T120000
DTSTAMP:20260421T041123
CREATED:20251203T152326Z
LAST-MODIFIED:20251209T211750Z
UID:34511-1767177900-1767182400@www.shamesjcc.org
SUMMARY:Noon Years Eve Party
DESCRIPTION:Members: $5; non-members: $8 \nJoin us for an inclusive party to welcome the new year! We’ll dance\, snack\, craft\, and toast 2026 with sparkling cider and a 12:00 pm countdown. Let’s ring in the new year together in community! All ages and abilities welcome.
URL:https://www.shamesjcc.org/event/noon-years-eve-party/
ATTACH;FMTTYPE=image/png:https://www.shamesjcc.org/wp-content/uploads/2025/12/Colorful-Modern-New-Year-Invitation-Flyer.png
END:VEVENT
BEGIN:VEVENT
DTSTART;TZID=America/New_York:20251231T150000
DTEND;TZID=America/New_York:20251231T210000
DTSTAMP:20260421T041123
CREATED:20251203T192228Z
LAST-MODIFIED:20251222T133658Z
UID:34518-1767193200-1767214800@www.shamesjcc.org
SUMMARY:JCC CLOSES AT 3PM
DESCRIPTION:
URL:https://www.shamesjcc.org/event/jcc-closes-at-300-pm-2/
ATTACH;FMTTYPE=image/png:https://www.shamesjcc.org/wp-content/uploads/2025/12/Colorful-Modern-New-Year-Invitation-Flyer.png
END:VEVENT
END:VCALENDAR