BEGIN:VCALENDAR
VERSION:2.0
PRODID:-//Shames JCC - ECPv6.1.3//NONSGML v1.0//EN
CALSCALE:GREGORIAN
METHOD:PUBLISH
X-ORIGINAL-URL:https://www.shamesjcc.org
X-WR-CALDESC:Events for Shames JCC
REFRESH-INTERVAL;VALUE=DURATION:PT1H
X-Robots-Tag:noindex
X-PUBLISHED-TTL:PT1H
BEGIN:VTIMEZONE
TZID:America/New_York
BEGIN:DAYLIGHT
TZOFFSETFROM:-0500
TZOFFSETTO:-0400
TZNAME:EDT
DTSTART:20250309T070000
END:DAYLIGHT
BEGIN:STANDARD
TZOFFSETFROM:-0400
TZOFFSETTO:-0500
TZNAME:EST
DTSTART:20251102T060000
END:STANDARD
END:VTIMEZONE
BEGIN:VEVENT
DTSTART;TZID=America/New_York:20250430T113000
DTEND;TZID=America/New_York:20250430T133000
DTSTAMP:20260419T090618
CREATED:20250408T210152Z
LAST-MODIFIED:20250408T210152Z
UID:32851-1746012600-1746019800@www.shamesjcc.org
SUMMARY:Documentary Screening: "What’s Next?" (Dir. Taylor Taglianetti)
DESCRIPTION:FREE for members & non-members\nRunning time: 77 minutes \nAt 100-years-old\, Dr. Howard Tucker has been recognized by the Guinness World Records as the world’s oldest practicing doctor. Following a 7+ decade career–capped off by a stint teaching neurology to medical residents at Cleveland’s St. Vincent Charity Medical Center– Dr. Tucker begins to slow down and grapple with aging for the first time. Told through the eyes of his grandson\, the film follows their journey and relationship through a changing medical landscape. \nSee trailer here.
URL:https://www.shamesjcc.org/event/documentary-screening-whats-next-dir-taylor-taglianetti/
ATTACH;FMTTYPE=image/png:https://www.shamesjcc.org/wp-content/uploads/2025/04/whats-next-2.png
END:VEVENT
BEGIN:VEVENT
DTSTART;TZID=America/New_York:20250430T180000
DTEND;TZID=America/New_York:20250430T203000
DTSTAMP:20260419T090618
CREATED:20250319T210203Z
LAST-MODIFIED:20250430T141020Z
UID:32670-1746036000-1746045000@www.shamesjcc.org
SUMMARY:Free Screening: The Zone of Interest
DESCRIPTION:Join us for a community screening of The Zone of Interest\, the 2024 Academy and BAFTA Award-winning film by Jonathan Glazer. In this film\, based on the book by Martin Amis\, Auschwitz commandant Rudolf Höss and his wife Hedwig strive to build a dream life for their family in a house and garden beside the camp. After the viewing\, we’ll explore how the film portrays the “banality of evil” and the chilling normalcy of Nazi ideology. We will question the ease with which ordinary people can participate in the dehumanization of victims and the normalization of violence\, and how it might resonate in the present day.
URL:https://www.shamesjcc.org/event/reel-to-real-zone-of-interest/
CATEGORIES:Adult Enrichment
ATTACH;FMTTYPE=image/jpeg:https://www.shamesjcc.org/wp-content/uploads/2025/03/ca-times.brightspotcdn.jpg
END:VEVENT
END:VCALENDAR