BEGIN:VCALENDAR
VERSION:2.0
PRODID:-//Shames JCC - ECPv6.1.3//NONSGML v1.0//EN
CALSCALE:GREGORIAN
METHOD:PUBLISH
X-ORIGINAL-URL:https://www.shamesjcc.org
X-WR-CALDESC:Events for Shames JCC
REFRESH-INTERVAL;VALUE=DURATION:PT1H
X-Robots-Tag:noindex
X-PUBLISHED-TTL:PT1H
BEGIN:VTIMEZONE
TZID:America/New_York
BEGIN:DAYLIGHT
TZOFFSETFROM:-0500
TZOFFSETTO:-0400
TZNAME:EDT
DTSTART:20250309T070000
END:DAYLIGHT
BEGIN:STANDARD
TZOFFSETFROM:-0400
TZOFFSETTO:-0500
TZNAME:EST
DTSTART:20251102T060000
END:STANDARD
END:VTIMEZONE
BEGIN:VEVENT
DTSTART;TZID=America/New_York:20250330T150000
DTEND;TZID=America/New_York:20250330T170000
DTSTAMP:20260420T013236
CREATED:20250110T190535Z
LAST-MODIFIED:20250325T142047Z
UID:32193-1743346800-1743354000@www.shamesjcc.org
SUMMARY:Rodgers: An Afternoon of Song and Story
DESCRIPTION:The Golden Ticket Series returns for another afternoon honoring the iconic work of Richard Rodgers\, who wrote some of the most famous musicals of all time\, including\, “The Sound of Music\,” “Oklahoma!” and “South Pacific.” His collaborations with Lorenz Hart and Oscar Hammerstein II are narrated by Broadway producer Jack Viertel and sung by a quartet of professional vocalists accompanied by an orchestra. You’ll hear masterpieces live such as “Climb Ev’ry Mountain\,” “Hello Young Lovers\,” “Some Enchanted Evening\,” and more!
URL:https://www.shamesjcc.org/event/rodgers-an-afternoon-of-song-and-story-2/
ATTACH;FMTTYPE=image/png:https://www.shamesjcc.org/wp-content/uploads/2025/01/rogers-web.png
END:VEVENT
END:VCALENDAR