BEGIN:VCALENDAR
VERSION:2.0
PRODID:-//Shames JCC - ECPv6.1.3//NONSGML v1.0//EN
CALSCALE:GREGORIAN
METHOD:PUBLISH
X-ORIGINAL-URL:https://www.shamesjcc.org
X-WR-CALDESC:Events for Shames JCC
REFRESH-INTERVAL;VALUE=DURATION:PT1H
X-Robots-Tag:noindex
X-PUBLISHED-TTL:PT1H
BEGIN:VTIMEZONE
TZID:America/New_York
BEGIN:DAYLIGHT
TZOFFSETFROM:-0500
TZOFFSETTO:-0400
TZNAME:EDT
DTSTART:20250309T070000
END:DAYLIGHT
BEGIN:STANDARD
TZOFFSETFROM:-0400
TZOFFSETTO:-0500
TZNAME:EST
DTSTART:20251102T060000
END:STANDARD
END:VTIMEZONE
BEGIN:VEVENT
DTSTART;TZID=America/New_York:20250319T113000
DTEND;TZID=America/New_York:20250319T130000
DTSTAMP:20260422T170737
CREATED:20250318T151449Z
LAST-MODIFIED:20250318T151543Z
UID:32648-1742383800-1742389200@www.shamesjcc.org
SUMMARY:Verve Lunch Bunch: Your Favorite Travel Memories
DESCRIPTION:Wednesday\, March 19; 11:30-1 pm \nFREE for members and non-members \nRegister Here or drop in \nGrab some lunch at the cafe (or bring your own) and come chat with your fellow travel enthusiasts. What were the best trips you have taken? Where do you recommend? Let’s trade tips and learn from each other as we dream of future travels.
URL:https://www.shamesjcc.org/event/verve-lunch-bunch-your-favorite-travel-memories/
CATEGORIES:Adult Enrichment
ATTACH;FMTTYPE=image/webp:https://www.shamesjcc.org/wp-content/uploads/2025/03/world-map-continents-oceans.webp
END:VEVENT
BEGIN:VEVENT
DTSTART;TZID=America/New_York:20250319T190000
DTEND;TZID=America/New_York:20250319T201500
DTSTAMP:20260422T170737
CREATED:20250203T204857Z
LAST-MODIFIED:20250203T205302Z
UID:32323-1742410800-1742415300@www.shamesjcc.org
SUMMARY:JCC Book Club: "The Wedding People" by Alison Espach
DESCRIPTION:This New York Times bestseller follows the complicated dynamics of relationships during a wedding celebration\, focusing on the lives of the guests and their hidden desires. Through the lens of a young woman attending the event\, the novel explores the messy realities of love\, loyalty\, and the expectations surrounding marriage. The book blends dark humor with moving moments\, offering a sharp commentary on the complexities of human connection. \n“Espach’s wit and warmth deliver a gratifying story about how people who have given up might find a reason to start caring again.”—The Washington Post
URL:https://www.shamesjcc.org/event/jcc-book-club-the-wedding-people/
ATTACH;FMTTYPE=image/jpeg:https://www.shamesjcc.org/wp-content/uploads/2025/02/1200x900wz.jpg
END:VEVENT
END:VCALENDAR