BEGIN:VCALENDAR
VERSION:2.0
PRODID:-//Shames JCC - ECPv6.1.3//NONSGML v1.0//EN
CALSCALE:GREGORIAN
METHOD:PUBLISH
X-WR-CALNAME:Shames JCC
X-ORIGINAL-URL:https://www.shamesjcc.org
X-WR-CALDESC:Events for Shames JCC
REFRESH-INTERVAL;VALUE=DURATION:PT1H
X-Robots-Tag:noindex
X-PUBLISHED-TTL:PT1H
BEGIN:VTIMEZONE
TZID:America/New_York
BEGIN:DAYLIGHT
TZOFFSETFROM:-0500
TZOFFSETTO:-0400
TZNAME:EDT
DTSTART:20250309T070000
END:DAYLIGHT
BEGIN:STANDARD
TZOFFSETFROM:-0400
TZOFFSETTO:-0500
TZNAME:EST
DTSTART:20251102T060000
END:STANDARD
END:VTIMEZONE
BEGIN:VEVENT
DTSTART;TZID=America/New_York:20250128T123000
DTEND;TZID=America/New_York:20250128T133000
DTSTAMP:20260424T062352
CREATED:20250107T184819Z
LAST-MODIFIED:20250107T184819Z
UID:32142-1738067400-1738071000@www.shamesjcc.org
SUMMARY:Caregiver Conversation Circle
DESCRIPTION:Do you care for a family member with chronic illness or special needs? Join our conversation circle to connect with others in a similar situation. Whether you are responsible for a child with special needs\, a spouse with cognitive or physical decline\, or any other situation that fits\, we welcome your participation. The group will be facilitated by longtime social worker\, Joanne Reed. Coffee and tea will be served.
URL:https://www.shamesjcc.org/event/caregiver-conversation-circle-6/
ATTACH;FMTTYPE=image/jpeg:https://www.shamesjcc.org/wp-content/uploads/2024/05/caregiver-1.jpg
END:VEVENT
BEGIN:VEVENT
DTSTART;TZID=America/New_York:20250128T140000
DTEND;TZID=America/New_York:20250128T150000
DTSTAMP:20260424T062352
CREATED:20250121T183951Z
LAST-MODIFIED:20250121T183951Z
UID:32243-1738072800-1738076400@www.shamesjcc.org
SUMMARY:Voyages with Verve: Mexico City
DESCRIPTION:FREE for members and non-members\, light snack from the country included \nJourney through Mexico City’s pulsating core\, where centuries of history blend with modern urban energy. Experience the grandeur of the Zócalo\, one of the world’s largest city squares\, flanked by the majestic Metropolitan Cathedral and National Palace with its famous Diego Rivera murals. Immerse yourself in the capital’s vibrant street life\, where the aroma of local cuisine mingles with the sounds of mariachi music. From colonial landmarks to bustling markets\, discover why this megalopolis remains Latin America’s cultural powerhouse and a city of endless fascination. \nCan’t make this program? This tour is available to view live at home as well – the link will be sent after registration.
URL:https://www.shamesjcc.org/event/voyages-with-verve-mexico-city/
ATTACH;FMTTYPE=image/webp:https://www.shamesjcc.org/wp-content/uploads/2025/01/metropolitan-cathedral-zocalo-mexico-city-scaled.webp
END:VEVENT
END:VCALENDAR