BEGIN:VCALENDAR
VERSION:2.0
PRODID:-//Shames JCC - ECPv6.1.3//NONSGML v1.0//EN
CALSCALE:GREGORIAN
METHOD:PUBLISH
X-WR-CALNAME:Shames JCC
X-ORIGINAL-URL:https://www.shamesjcc.org
X-WR-CALDESC:Events for Shames JCC
REFRESH-INTERVAL;VALUE=DURATION:PT1H
X-Robots-Tag:noindex
X-PUBLISHED-TTL:PT1H
BEGIN:VTIMEZONE
TZID:America/New_York
BEGIN:DAYLIGHT
TZOFFSETFROM:-0500
TZOFFSETTO:-0400
TZNAME:EDT
DTSTART:20240310T070000
END:DAYLIGHT
BEGIN:STANDARD
TZOFFSETFROM:-0400
TZOFFSETTO:-0500
TZNAME:EST
DTSTART:20241103T060000
END:STANDARD
END:VTIMEZONE
BEGIN:VEVENT
DTSTART;TZID=America/New_York:20241213T090000
DTEND;TZID=America/New_York:20241213T130000
DTSTAMP:20260421T135038
CREATED:20241119T175824Z
LAST-MODIFIED:20241202T184048Z
UID:31819-1734080400-1734094800@www.shamesjcc.org
SUMMARY:Pop-Up: Jewels of the East
DESCRIPTION:Purchase one-of-a-kind Baltic Amber jewelry and gorgeous silk\, wool and cashmere scarves\, shawls\, and ponchos with and without embroidery.
URL:https://www.shamesjcc.org/event/pop-up-jewels-of-the-east/
CATEGORIES:Special Event
ATTACH;FMTTYPE=image/webp:https://www.shamesjcc.org/wp-content/uploads/2024/04/IMG_1696_1.webp
END:VEVENT
BEGIN:VEVENT
DTSTART;TZID=America/New_York:20241213T093000
DTEND;TZID=America/New_York:20241213T103000
DTSTAMP:20260421T135038
CREATED:20241122T142653Z
LAST-MODIFIED:20241122T142653Z
UID:31891-1734082200-1734085800@www.shamesjcc.org
SUMMARY:Challah and Conversation: ‘Tis The Season to Be… Interfaith
DESCRIPTION:Join Rabbi Ron Symons in a conversation about the power of and challenges with confronting interfaith dialogue\, especially now in a world filled with divisions. \nIn the Challah and Conversation series\, Rabbi Ron Symons\, Shames JCC Sr. Director of Jewish Engagement\, leads interactive guided conversations about life that weave the world around us with general spirituality through Jewish and other  lenses. We begin our time together by lighting candles and end with a little grape juice and challah… all in a very inclusive way. Neighbors of all backgrounds are welcome. These are on the 2nd\, 3rd\, 4th\, and 5th Fridays of each month.
URL:https://www.shamesjcc.org/event/challah-and-conversation-tis-the-season-to-be-interfaith-2/
CATEGORIES:Jewish Life
ATTACH;FMTTYPE=image/jpeg:https://www.shamesjcc.org/wp-content/uploads/2020/03/challah-bread-wood-plate-wooden-table_93289-20.jpg
END:VEVENT
END:VCALENDAR