BEGIN:VCALENDAR
VERSION:2.0
PRODID:-//Shames JCC - ECPv6.1.3//NONSGML v1.0//EN
CALSCALE:GREGORIAN
METHOD:PUBLISH
X-WR-CALNAME:Shames JCC
X-ORIGINAL-URL:https://www.shamesjcc.org
X-WR-CALDESC:Events for Shames JCC
REFRESH-INTERVAL;VALUE=DURATION:PT1H
X-Robots-Tag:noindex
X-PUBLISHED-TTL:PT1H
BEGIN:VTIMEZONE
TZID:America/New_York
BEGIN:DAYLIGHT
TZOFFSETFROM:-0500
TZOFFSETTO:-0400
TZNAME:EDT
DTSTART:20240310T070000
END:DAYLIGHT
BEGIN:STANDARD
TZOFFSETFROM:-0400
TZOFFSETTO:-0500
TZNAME:EST
DTSTART:20241103T060000
END:STANDARD
END:VTIMEZONE
BEGIN:VEVENT
DTSTART;TZID=America/New_York:20241204T113000
DTEND;TZID=America/New_York:20241204T130000
DTSTAMP:20260419T213314
CREATED:20241113T193525Z
LAST-MODIFIED:20241113T193525Z
UID:31765-1733311800-1733317200@www.shamesjcc.org
SUMMARY:Hot Topics
DESCRIPTION:Come discuss the month’s social and political issues with your fellow news enthusiasts. With timely and changing international\, national\, and local issues from the news arenas of government\, arts\, sports\, science\, and religion\, we welcome all participants to voice their ideas. All points of view are welcome in this lively\, thought-provoking\, and civil discussion. Feel free to bring your lunch and/or a friend!
URL:https://www.shamesjcc.org/event/hot-topics-6/
ATTACH;FMTTYPE=image/jpeg:https://www.shamesjcc.org/wp-content/uploads/2020/05/newspapers-folded-form-background_100488-637.jpg
END:VEVENT
BEGIN:VEVENT
DTSTART;TZID=America/New_York:20241204T183000
DTEND;TZID=America/New_York:20241204T203000
DTSTAMP:20260419T213314
CREATED:20241025T135110Z
LAST-MODIFIED:20241105T141033Z
UID:31666-1733337000-1733344200@www.shamesjcc.org
SUMMARY:Behind the Scenes: "Crossing Delancey": Film Screening and Q&A with Production Sound Mixer Danny Michael
DESCRIPTION:FREE for members; $10 non-members \nEvery wonder what goes into making a Hollywood film? Join us for a screening of the classic romantic comedy Crossing Delancey\, then stay for a discussion with the film’s production sound mixer\, Danny Michael. An Academy Award nominee\, Danny\, has worked on over 90 films and has lots of stories to share. Bring your questions! \n 
URL:https://www.shamesjcc.org/event/behind-the-scenes-crossing-delancey-film-screening-and-qa-with-sound-engineer-danny-michael/
ATTACH;FMTTYPE=image/png:https://www.shamesjcc.org/wp-content/uploads/2024/10/Crossing-DelanceyxDanny-Michael.png
END:VEVENT
END:VCALENDAR