BEGIN:VCALENDAR
VERSION:2.0
PRODID:-//Shames JCC - ECPv6.1.3//NONSGML v1.0//EN
CALSCALE:GREGORIAN
METHOD:PUBLISH
X-ORIGINAL-URL:https://www.shamesjcc.org
X-WR-CALDESC:Events for Shames JCC
REFRESH-INTERVAL;VALUE=DURATION:PT1H
X-Robots-Tag:noindex
X-PUBLISHED-TTL:PT1H
BEGIN:VTIMEZONE
TZID:America/New_York
BEGIN:DAYLIGHT
TZOFFSETFROM:-0500
TZOFFSETTO:-0400
TZNAME:EDT
DTSTART:20240310T070000
END:DAYLIGHT
BEGIN:STANDARD
TZOFFSETFROM:-0400
TZOFFSETTO:-0500
TZNAME:EST
DTSTART:20241103T060000
END:STANDARD
END:VTIMEZONE
BEGIN:VEVENT
DTSTART;TZID=America/New_York:20240910T120000
DTEND;TZID=America/New_York:20240912T130000
DTSTAMP:20260425T200121
CREATED:20240503T151902Z
LAST-MODIFIED:20240708T205140Z
UID:30674-1725969600-1726146000@www.shamesjcc.org
SUMMARY:Retreat to the Berkshires
DESCRIPTION:Join other active 55+ adults September 10–12 for nature\, fitness and fun!\nBerkshire Hills Eisenberg Camp\, Copake\, NY \nCome experience the joy of camp as an adult! The inaugural Verve retreat is bringing active adults ages 55+ from four metro JCCs together for two days of fun at Berkshire Hills Eisenberg Camp (BHEC) in Copake\, NY. And some of your favorite fitness instructors are coming along\, too! Sample offerings include strength classes\, yoga and meditation\, tennis\, pickleball\, swimming\, canoeing\, stand-up paddleboarding\, card games\, and lots of free time to connect with friends and enjoy nature. And that’s just during the day! Nighttime brings entertainment and s’mores around the campfire. Bring a friend or come make new ones! \nCosts: \n\n$450 for a shared room (with private bathroom)\n$550 for a private room (with private bathroom)\nOptional Add-On: $35 for a 90-minute culinary workshop with Chef Katie Hickey\, who is leading classes based on the cookbook “The Kripalu Kitchen: Nourishing Food for Body and Soul.\n\nYour cost includes: \n\nPrivate or shared room with private bathroom in cabins\nAll meals and non-alcoholic beverages (alcoholic beverages are BYOB)\nAll activities\, including fitness classes\, yoga\, boating\, swimming\, pickleball\, use of indoor spaces\, and more (culinary workshop is extra)\nNighttime entertainment and s’mores around the campfire\nAll linens and towels\nRoundtrip transportation from your JCC by coach bus\nVerve T-shirt\n\nSample schedule and FAQ to come! \n*No refunds after August 10
URL:https://www.shamesjcc.org/event/retreat-to-the-berkshires/
CATEGORIES:Adult Enrichment
ATTACH;FMTTYPE=image/png:https://www.shamesjcc.org/wp-content/uploads/2024/05/Verve-Retreat-1600-x-600-px.png
END:VEVENT
BEGIN:VEVENT
DTSTART;TZID=America/New_York:20240912T100000
DTEND;TZID=America/New_York:20240912T110000
DTSTAMP:20260425T200121
CREATED:20240827T154641Z
LAST-MODIFIED:20240828T202117Z
UID:31254-1726135200-1726138800@www.shamesjcc.org
SUMMARY:Interfaith Dialogue: People of Faith and The Election: Gun Control\, Abortion\, Economy\, Immigration\, Character
DESCRIPTION:We may not all agree with the correct solutions to every problem in our country\, but can we agree on what the problems are? In this session\, Reverend Evans and Rabbi Stein will explore what our sacred traditions believe are the important issues that should guide our decisions when we enter the voting booth. \nThis is part of the Common Ground: Interfaith Dialogue series. Rabbi Jay Stein\, Greenburgh Hebrew Center\, and Rev. Gareth Evans\, St. Barnabas Episcopal Church of Irvington\, come together for an enlightening conversation to build bridges across real and perceived differences. Your participation as a “fly on the wall” and/or an engaged conversationalist is welcome. These are on the 2nd Thursday of every month. 
URL:https://www.shamesjcc.org/event/interfaith-dialogue-people-of-faith-and-the-election-gun-control-abortion-economy-immigration-character/
CATEGORIES:Jewish Life
ATTACH;FMTTYPE=image/jpeg:https://www.shamesjcc.org/wp-content/uploads/2024/08/Common-Ground-Interfaith-Dialogue.jpg
END:VEVENT
END:VCALENDAR