BEGIN:VCALENDAR
VERSION:2.0
PRODID:-//Shames JCC - ECPv6.1.3//NONSGML v1.0//EN
CALSCALE:GREGORIAN
METHOD:PUBLISH
X-WR-CALNAME:Shames JCC
X-ORIGINAL-URL:https://www.shamesjcc.org
X-WR-CALDESC:Events for Shames JCC
REFRESH-INTERVAL;VALUE=DURATION:PT1H
X-Robots-Tag:noindex
X-PUBLISHED-TTL:PT1H
BEGIN:VTIMEZONE
TZID:America/New_York
BEGIN:DAYLIGHT
TZOFFSETFROM:-0500
TZOFFSETTO:-0400
TZNAME:EDT
DTSTART:20240310T070000
END:DAYLIGHT
BEGIN:STANDARD
TZOFFSETFROM:-0400
TZOFFSETTO:-0500
TZNAME:EST
DTSTART:20241103T060000
END:STANDARD
END:VTIMEZONE
BEGIN:VEVENT
DTSTART;TZID=America/New_York:20240606T190000
DTEND;TZID=America/New_York:20240606T203000
DTSTAMP:20260419T113837
CREATED:20240429T162743Z
LAST-MODIFIED:20240515T162457Z
UID:30649-1717700400-1717705800@www.shamesjcc.org
SUMMARY:Two Years Since Dobbs: Where Are We Now?
DESCRIPTION:$15 suggested donation \nRoe v. Wade was overturned two years ago this June. Since then\, a number of states have enacted restrictive abortion laws\, and women’s access to healthcare is being obstructed in new and dangerous ways every day. How did this all come to pass? What has the landscape looked like these past two years in terms of policy and provision–and where might be heading in this significant election year? We’ll explore the past\, present\, and potential future of abortion access with Meera Shah\, chief medical officer of Planned Parenthood Hudson Peconic and Andrea Flynn\, thought leader\, scholar\, and lecturer on reproductive and economic justice. \nThis event is co-sponsored with Rivertown for Reproductive Rights.
URL:https://www.shamesjcc.org/event/two-years-since-dobbs-where-are-we-now/
CATEGORIES:Adult Enrichment
ATTACH;FMTTYPE=image/jpeg:https://www.shamesjcc.org/wp-content/uploads/2024/04/Dobbs_June-event.jpg
END:VEVENT
BEGIN:VEVENT
DTSTART;TZID=America/New_York:20240606T190000
DTEND;TZID=America/New_York:20240606T210000
DTSTAMP:20260419T113837
CREATED:20240509T205522Z
LAST-MODIFIED:20240513T152643Z
UID:30707-1717700400-1717707600@www.shamesjcc.org
SUMMARY:Spring Graze Board Making
DESCRIPTION:Join us for an interactive culinary experience led by talented cooking instructor\, Kate Sonders Solomon. Learn the art of crafting a delicious spring graze board\, socialize\, and celebrate Shavuot as you indulge in the joy of food and community! \nKate is a cooking instructor living in Hastings-on-Hudson. She provides a relaxed\, hands-on cooking experience for adults and children. Kate aims to foster creativity and connection in the kitchen and empower children\, home cooks\, and corporate teams. \nAddress is in the Somers area\, and will be disclosed upon registration
URL:https://www.shamesjcc.org/event/spring-graze-board-making/
ATTACH;FMTTYPE=image/jpeg:https://www.shamesjcc.org/wp-content/uploads/2024/05/picture-of-graze-board.jpg
END:VEVENT
END:VCALENDAR