BEGIN:VCALENDAR
VERSION:2.0
PRODID:-//Shames JCC - ECPv6.1.3//NONSGML v1.0//EN
CALSCALE:GREGORIAN
METHOD:PUBLISH
X-ORIGINAL-URL:https://www.shamesjcc.org
X-WR-CALDESC:Events for Shames JCC
REFRESH-INTERVAL;VALUE=DURATION:PT1H
X-Robots-Tag:noindex
X-PUBLISHED-TTL:PT1H
BEGIN:VTIMEZONE
TZID:America/New_York
BEGIN:DAYLIGHT
TZOFFSETFROM:-0500
TZOFFSETTO:-0400
TZNAME:EDT
DTSTART:20240310T070000
END:DAYLIGHT
BEGIN:STANDARD
TZOFFSETFROM:-0400
TZOFFSETTO:-0500
TZNAME:EST
DTSTART:20241103T060000
END:STANDARD
END:VTIMEZONE
BEGIN:VEVENT
DTSTART;TZID=America/New_York:20240227T150000
DTEND;TZID=America/New_York:20240227T170000
DTSTAMP:20260423T183825
CREATED:20240130T153638Z
LAST-MODIFIED:20240212T220646Z
UID:30063-1709046000-1709053200@www.shamesjcc.org
SUMMARY:Birdie’s Batch Pop-Up
DESCRIPTION:Stop by the J for some special treats! Looking for a gift for a loved one? Birdie’s Batch will be selling hot chocolate mug gift sets which include a dark chocolate blend with homemade marshmallows. There will be raspberry and passion fruit curd linzers\, chocolate cakes\, apple butter rugelach\, and peanut butter s’mores! Craving something savory? Grab a crostata for an easy dinner (flavors include broccoli rabe\, eggplant\, zucchini\, and potato and spicy miso).
URL:https://www.shamesjcc.org/event/birdies-batch-pop-up-4/
ATTACH;FMTTYPE=image/png:https://www.shamesjcc.org/wp-content/uploads/2024/01/Birdies-Batch_smores.png
END:VEVENT
BEGIN:VEVENT
DTSTART;TZID=America/New_York:20240227T190000
DTEND;TZID=America/New_York:20240227T201500
DTSTAMP:20260423T183825
CREATED:20240223T014251Z
LAST-MODIFIED:20240223T014251Z
UID:30204-1709060400-1709064900@www.shamesjcc.org
SUMMARY:Parenting is Hard: Teen Mental Health - Mental Health 101
DESCRIPTION:Join us for the first workshop in our series on adolescent mental health (12-18 years) led by Scott Bloom\, LCSW\, in collaboration with the Child & Family Institute of Westchester. Through engaging presentations and discussions\, we will explore the challenges facing today’s teens\, and how parents can address these to set teens up for success. This class we will cover core aspects of teen mental health. Participants will gain greater understanding in order to strengthen their ability to support youth during this time that both presents challenges and holds so much promise and possibility. \nThe registration fee includes Mental Health 101 Workshop ONLY.
URL:https://www.shamesjcc.org/event/parenting-is-hard-teen-mental-health-mental-health-101/
ATTACH;FMTTYPE=image/png:https://www.shamesjcc.org/wp-content/uploads/2024/01/ChildTherapy.png
END:VEVENT
END:VCALENDAR