BEGIN:VCALENDAR
VERSION:2.0
PRODID:-//Shames JCC - ECPv6.1.3//NONSGML v1.0//EN
CALSCALE:GREGORIAN
METHOD:PUBLISH
X-ORIGINAL-URL:https://www.shamesjcc.org
X-WR-CALDESC:Events for Shames JCC
REFRESH-INTERVAL;VALUE=DURATION:PT1H
X-Robots-Tag:noindex
X-PUBLISHED-TTL:PT1H
BEGIN:VTIMEZONE
TZID:America/New_York
BEGIN:DAYLIGHT
TZOFFSETFROM:-0500
TZOFFSETTO:-0400
TZNAME:EDT
DTSTART:20240310T070000
END:DAYLIGHT
BEGIN:STANDARD
TZOFFSETFROM:-0400
TZOFFSETTO:-0500
TZNAME:EST
DTSTART:20241103T060000
END:STANDARD
END:VTIMEZONE
BEGIN:VEVENT
DTSTART;TZID=America/New_York:20240124T113000
DTEND;TZID=America/New_York:20240124T130000
DTSTAMP:20260423T052354
CREATED:20231030T140915Z
LAST-MODIFIED:20240102T180333Z
UID:29205-1706095800-1706101200@www.shamesjcc.org
SUMMARY:Games and More
DESCRIPTION:FREE for members and non-members \nGrab a friend or meet a new one over a good game. We provide Scrabble\, playing cards\, Rummikub\, Mah Jongg\, Othello\, chess\, and more; you’re also welcome to bring your own. Feel free to bring your lunch!
URL:https://www.shamesjcc.org/event/games-and-more/
CATEGORIES:Adult Enrichment
ATTACH;FMTTYPE=image/jpeg:https://www.shamesjcc.org/wp-content/uploads/2022/04/card-games-11.jpg
END:VEVENT
BEGIN:VEVENT
DTSTART;TZID=America/New_York:20240124T140000
DTEND;TZID=America/New_York:20240124T153000
DTSTAMP:20260423T052354
CREATED:20240117T223926Z
LAST-MODIFIED:20240118T175732Z
UID:29970-1706104800-1706110200@www.shamesjcc.org
SUMMARY:Verve Goes to the Movies at Jacob Burns
DESCRIPTION:Shortlisted for Best International Feature for the 2024 Academy Awards® \nWinner of the Grand Prix at the 2023 Cannes Film Festival \nCommandant of Auschwitz Rudolf Höss (Christian Friedel)\, along with his wife Hedwig (played by Anatomy of a Fall‘s Sandra Hüller)\, strive to build a dream life for their family in a house and garden next to the camp. Based on the novel by Martin Amis\, The Zone of Interest forces us to take a cold look at the mundanity behind an unforgivable brutality. Running time 106 minutes. \nParticipants are responsible for their open transportation and carpooling is available – email cjacobs@shamesjcc.org by Jan. 21 if you want to share a ride.
URL:https://www.shamesjcc.org/event/verve-goes-to-the-movies-at-jacob-burns/
ATTACH;FMTTYPE=image/webp:https://www.shamesjcc.org/wp-content/uploads/2024/01/zone-of-interest-Carly-Jacobs.webp
END:VEVENT
END:VCALENDAR