BEGIN:VCALENDAR
VERSION:2.0
PRODID:-//Shames JCC - ECPv6.1.3//NONSGML v1.0//EN
CALSCALE:GREGORIAN
METHOD:PUBLISH
X-ORIGINAL-URL:https://www.shamesjcc.org
X-WR-CALDESC:Events for Shames JCC
REFRESH-INTERVAL;VALUE=DURATION:PT1H
X-Robots-Tag:noindex
X-PUBLISHED-TTL:PT1H
BEGIN:VTIMEZONE
TZID:America/New_York
BEGIN:DAYLIGHT
TZOFFSETFROM:-0500
TZOFFSETTO:-0400
TZNAME:EDT
DTSTART:20230312T070000
END:DAYLIGHT
BEGIN:STANDARD
TZOFFSETFROM:-0400
TZOFFSETTO:-0500
TZNAME:EST
DTSTART:20231105T060000
END:STANDARD
END:VTIMEZONE
BEGIN:VEVENT
DTSTART;TZID=America/New_York:20230510T100000
DTEND;TZID=America/New_York:20230510T130000
DTSTAMP:20260419T142429
CREATED:20230421T141300Z
LAST-MODIFIED:20230424T150508Z
UID:27870-1683712800-1683723600@www.shamesjcc.org
SUMMARY:Mother's Day Pop-Up: Jewelry and Embroidery from Jewels of the East
DESCRIPTION:Jewelry and Embroidery from Jewels of the East\nGet your gifts for the mothers in your life here at the J! Come peruse unique jewelry and shawls from all over the world from Jewels of the East. See more on their website.
URL:https://www.shamesjcc.org/event/jewelry-and-embroidery-from-jewels-of-the-east/
CATEGORIES:Special Event
ATTACH;FMTTYPE=image/jpeg:https://www.shamesjcc.org/wp-content/uploads/2023/04/cushion-cover-02-400x404-1.jpg
END:VEVENT
BEGIN:VEVENT
DTSTART;TZID=America/New_York:20230510T124500
DTEND;TZID=America/New_York:20230510T140000
DTSTAMP:20260419T142429
CREATED:20230421T140658Z
LAST-MODIFIED:20230424T202756Z
UID:27863-1683722700-1683727200@www.shamesjcc.org
SUMMARY:Social Club: Tour the Rockefeller Peonies
DESCRIPTION:Social Club: Tour the Rockefeller Peonies\nFREE for members and nonmembers + parking \nTo celebrate spring\, the Shames JCC is planning a group visit to see\, smell\, and learn about the beautiful peonies at Rockefeller State Park Preserve. We will meet for a BYO picnic lunch and then hear a talk about the peonies with M. Evelyn Hadad. After the program\, you’re invited to stay and further explore the property on your own. Register Here \nNOTE ON PARKING: Meet at the main parking area off Route 117. Parking is $6 per vehicle collected by automated pay station and cars are checked daily\, year-round 8:00 am to 4:30 pm for the dashboard parking ticket. \nFor NYS adults 62 and older\, simply scan your NYS driver’s license at the pay station for the free parking ticket. Interested in carpooling? Email cjacobs@shamesjcc.org.
URL:https://www.shamesjcc.org/event/social-club-tour-the-rockefeller-peonies-2/
CATEGORIES:Adult Enrichment
ATTACH;FMTTYPE=image/jpeg:https://www.shamesjcc.org/wp-content/uploads/2023/04/licensed-image.jpg
END:VEVENT
BEGIN:VEVENT
DTSTART;TZID=America/New_York:20230510T183000
DTEND;TZID=America/New_York:20230510T200000
DTSTAMP:20260419T142429
CREATED:20230412T183226Z
LAST-MODIFIED:20230412T183226Z
UID:27800-1683743400-1683748800@www.shamesjcc.org
SUMMARY:Foreign Affairs Discussion: Will Brexit Destroy the United Kingdom?
DESCRIPTION:Foreign Affairs Discussion: Will Brexit Destroy the United Kingdom?\nTwo world wars and the end of its empire diminished the United Kingdom’s role in the 20th century. The 2016 Brexit referendum vote to leave the European Union has further undermined the country’s global role and threatens the breakup of the Union of England\, Wales\, Scotland\, and Northern Ireland. This discussion will look at the economic and political costs of Brexit and whether or not the United Kingdom will hold together. \nAbout the facilitator: David Cheney is an international economics writer\, instructor\, and trainer for international and educational institutions. He has held a variety of positions at the International Monetary Fund and has provided communications and writing support for a number of multilateral institutions including the World Bank\, Inter-American Development Bank and the Asian Infrastructure Investment Bank. David has served as an adjunct professor of Global Economics and Writing at NYU and currently runs two foreign affairs discussion groups at the Manhattan JCC and Scarsdale Adult School.
URL:https://www.shamesjcc.org/event/foreign-affairs-discussion-will-brexit-destroy-the-united-kingdom/
CATEGORIES:Community-Wide Program
ATTACH;FMTTYPE=image/jpeg:https://www.shamesjcc.org/wp-content/uploads/2023/04/2021-uk-flag-waving.jpg
END:VEVENT
END:VCALENDAR