BEGIN:VCALENDAR
VERSION:2.0
PRODID:-//Shames JCC - ECPv6.1.3//NONSGML v1.0//EN
CALSCALE:GREGORIAN
METHOD:PUBLISH
X-WR-CALNAME:Shames JCC
X-ORIGINAL-URL:https://www.shamesjcc.org
X-WR-CALDESC:Events for Shames JCC
REFRESH-INTERVAL;VALUE=DURATION:PT1H
X-Robots-Tag:noindex
X-PUBLISHED-TTL:PT1H
BEGIN:VTIMEZONE
TZID:America/New_York
BEGIN:DAYLIGHT
TZOFFSETFROM:-0500
TZOFFSETTO:-0400
TZNAME:EDT
DTSTART:20220313T070000
END:DAYLIGHT
BEGIN:STANDARD
TZOFFSETFROM:-0400
TZOFFSETTO:-0500
TZNAME:EST
DTSTART:20221106T060000
END:STANDARD
END:VTIMEZONE
BEGIN:VEVENT
DTSTART;TZID=America/New_York:20221212T100000
DTEND;TZID=America/New_York:20221212T110000
DTSTAMP:20260420T222102
CREATED:20221207T195530Z
LAST-MODIFIED:20221207T195901Z
UID:26825-1670839200-1670842800@www.shamesjcc.org
SUMMARY:Yoga: A Reflective Practice in Honor of Hanukkah at the Mt Kisco Library
DESCRIPTION:Yoga: A Reflective Practice in Honor of Hanukkah at the Mt Kisco Library\nHanukkah is a time where we can reflect upon the light of the world and within ourselves. Join Emily Herzfeld for a yoga class for all levels that explores the messages of Hanukkah through movement and meditation. This class will stretch\, strengthen\, and soothe the body\, mind\, and soul\, while re-jew-venating with tools and lessons that can be practiced beyond the class. Please dress comfortably and bring your own yoga mat.
URL:https://www.shamesjcc.org/event/yoga-a-reflective-practice-in-honor-of-hanukkah-at-the-mt-kisco-library/
CATEGORIES:Fitness,Jewish Life
ATTACH;FMTTYPE=image/jpeg:https://www.shamesjcc.org/wp-content/uploads/2022/12/318473844_10161115606099505_5295433752845331701_n.jpg
END:VEVENT
BEGIN:VEVENT
DTSTART;TZID=America/New_York:20221212T100000
DTEND;TZID=America/New_York:20221212T120000
DTSTAMP:20260420T222102
CREATED:20221019T152003Z
LAST-MODIFIED:20221207T200824Z
UID:26420-1670839200-1670846400@www.shamesjcc.org
SUMMARY:Film Screening followed by Q&A with Director Jeremy Newberger: Heading Home
DESCRIPTION:Heading Home: The Tale of Team Israel.\n\nJoin us to watch this riveting David-and-Goliath story of Israel’s national baseball team as it competes for the first time in the World Baseball Classic. \nAfter years of crushing defeats\, Israel finally ranks among the world’s best in 2017. Its roster includes many Jewish-American major leaguers\, most with a tenuous relationship to Judaism\, barely any ever having set foot in Israel. Their odyssey takes them from the Holy Land where they are hailed as modern-day Maccabees to the tournament in South Korea where they must debunk their reputations as has-beens and wannabes. The connection to Israel that the players forge pushes them to unexpected heights as they represent the country on the world stage. \nThe screening will be followed by a Q&A discussion with the director. Watch the trailer here.
URL:https://www.shamesjcc.org/event/screening-and-qa-of-heading-home-a-documentary-about-the-frst-israeli-baseball-team-to-make-it-to-the-world-baseball-classic-discussion-by-director-jeremy-newberger/
CATEGORIES:Renard Lecture
ATTACH;FMTTYPE=image/jpeg:https://www.shamesjcc.org/wp-content/uploads/2022/10/HeadingHomepostercrop4.jpg
END:VEVENT
BEGIN:VEVENT
DTSTART;TZID=America/New_York:20221212T120000
DTEND;TZID=America/New_York:20221212T170000
DTSTAMP:20260420T222102
CREATED:20221123T151202Z
LAST-MODIFIED:20221123T151202Z
UID:26693-1670846400-1670864400@www.shamesjcc.org
SUMMARY:American Girl Doll Pop-Up
DESCRIPTION:American Girl Doll Pop-Up\nLooking to start your holiday shopping? We have a great opportunities that support our members\, the J\, and an organization with a wonderful mission. \nGirl AGain will be at the J selling refurbished American Girl Dolls and accessories made by women from Yes She Can Inc.\, a nonprofit that helps young women with autism develop vocational skills. Come support them and purchase your loved ones various American Girl Doll items!
URL:https://www.shamesjcc.org/event/american-girl-doll-pop-up/
CATEGORIES:Special Event
ATTACH;FMTTYPE=image/png:https://www.shamesjcc.org/wp-content/uploads/2022/11/agd.png
END:VEVENT
END:VCALENDAR