BEGIN:VCALENDAR
VERSION:2.0
PRODID:-//Shames JCC - ECPv6.1.3//NONSGML v1.0//EN
CALSCALE:GREGORIAN
METHOD:PUBLISH
X-WR-CALNAME:Shames JCC
X-ORIGINAL-URL:https://www.shamesjcc.org
X-WR-CALDESC:Events for Shames JCC
REFRESH-INTERVAL;VALUE=DURATION:PT1H
X-Robots-Tag:noindex
X-PUBLISHED-TTL:PT1H
BEGIN:VTIMEZONE
TZID:America/New_York
BEGIN:DAYLIGHT
TZOFFSETFROM:-0500
TZOFFSETTO:-0400
TZNAME:EDT
DTSTART:20220313T070000
END:DAYLIGHT
BEGIN:STANDARD
TZOFFSETFROM:-0400
TZOFFSETTO:-0500
TZNAME:EST
DTSTART:20221106T060000
END:STANDARD
END:VTIMEZONE
BEGIN:VEVENT
DTSTART;TZID=America/New_York:20221206T090000
DTEND;TZID=America/New_York:20221206T130000
DTSTAMP:20260424T012323
CREATED:20221123T152038Z
LAST-MODIFIED:20221130T164821Z
UID:26697-1670317200-1670331600@www.shamesjcc.org
SUMMARY:Fused Glass Pop-Up with Abe Rosenthal
DESCRIPTION:Fused Glass Pop-Up with Abe Rosenthal\nBack by popular demand\, JCC member Abe Rosenthal has been working with fused glass since he retired ten years ago\, and will be setting up a pop-up shop selling a beautiful selection of homemade objects in our lobby! From large plates to trinket dishes\, necklaces and paperweights\, come see and purchase new items to treat yourself or buy a gift for a special someone. \nAbe has promised us he is hard at work making new items\, and will generously be donating a portion of sales to the J.
URL:https://www.shamesjcc.org/event/fused-glass-pop-up-with-abe-rosenthal-2/
CATEGORIES:Special Event
ATTACH;FMTTYPE=image/jpeg:https://www.shamesjcc.org/wp-content/uploads/2022/11/Green-Minimalist-Leaf-Photo-Collage-1536x576-1.jpg
END:VEVENT
BEGIN:VEVENT
DTSTART;TZID=America/New_York:20221206T113000
DTEND;TZID=America/New_York:20221206T123000
DTSTAMP:20260424T012323
CREATED:20221205T204402Z
LAST-MODIFIED:20221205T204402Z
UID:26784-1670326200-1670329800@www.shamesjcc.org
SUMMARY:Project Genesis: An Interfaith Conversation Between Two Clergy
DESCRIPTION:Project Genesis: An Interfaith Conversation Between Two Clergy\n  \nThe same story can have multiple meanings. The books of the Old Testament in particular are ripe with symbol\, metaphor\, and character\, providing the reader with the opportunity to unpack and analyze the meanings. In Project Genesis\, we will discuss different interpretations of some of the beloved stories we learned as children and now revisit as adults. Two clergy friends with insight from different faiths will serve as your guides: Reverend Gareth Evans of St. Barnabas Episcopal Church and Rabbi Jay M. Stein of Greenburgh Hebrew Center.
URL:https://www.shamesjcc.org/event/project-genesis-an-interfaith-conversation-between-two-clergy/
ATTACH;FMTTYPE=image/png:https://www.shamesjcc.org/wp-content/uploads/2022/12/Screen-Shot-2022-12-05-at-3.41.31-PM.png
END:VEVENT
BEGIN:VEVENT
DTSTART;TZID=America/New_York:20221206T183000
DTEND;TZID=America/New_York:20221206T200000
DTSTAMP:20260424T012323
CREATED:20221107T212209Z
LAST-MODIFIED:20221107T212209Z
UID:26525-1670351400-1670356800@www.shamesjcc.org
SUMMARY:Work for Good\, Good for Work: A Broad River Gathering
DESCRIPTION:Work for Good\, Good for Work: A Broad River Gathering\nLearn about the joys and benefits of community service in our work and our lives. \nThe positive impact on the community of our volunteer service work is usually very clear. For the volunteer\, there are many sometimes unexpected benefits from a career and professional experience as well. Tonight’s panelists have all been engaged in community work for many years in a variety of capacities. They will be talking about how their community service experiences have not just enriched their lives and the lives of others but also benefited their businesses and careers. We invite you to join us in the conversation – bring your questions and share your experiences. \nThis event is facilitated by Laurie Hirsch Schulz with guests Elissa Hecker and Joanne Taylor.
URL:https://www.shamesjcc.org/event/work-for-good-good-for-work-a-broad-river-gathering/
ATTACH;FMTTYPE=image/jpeg:https://www.shamesjcc.org/wp-content/uploads/2022/01/broadriver-4.jpeg
END:VEVENT
END:VCALENDAR