BEGIN:VCALENDAR
VERSION:2.0
PRODID:-//Shames JCC - ECPv6.1.3//NONSGML v1.0//EN
CALSCALE:GREGORIAN
METHOD:PUBLISH
X-ORIGINAL-URL:https://www.shamesjcc.org
X-WR-CALDESC:Events for Shames JCC
REFRESH-INTERVAL;VALUE=DURATION:PT1H
X-Robots-Tag:noindex
X-PUBLISHED-TTL:PT1H
BEGIN:VTIMEZONE
TZID:America/New_York
BEGIN:DAYLIGHT
TZOFFSETFROM:-0500
TZOFFSETTO:-0400
TZNAME:EDT
DTSTART:20220313T070000
END:DAYLIGHT
BEGIN:STANDARD
TZOFFSETFROM:-0400
TZOFFSETTO:-0500
TZNAME:EST
DTSTART:20221106T060000
END:STANDARD
END:VTIMEZONE
BEGIN:VEVENT
DTSTART;TZID=America/New_York:20220721T113000
DTEND;TZID=America/New_York:20220721T123000
DTSTAMP:20260422T014239
CREATED:20220711T162106Z
LAST-MODIFIED:20220711T172740Z
UID:25765-1658403000-1658406600@www.shamesjcc.org
SUMMARY:Love the Stranger: JCC Krakow’s Invitation to Ukrainian Refugees
DESCRIPTION:As the crisis in Ukraine rages on\, the JCC in Krakow has had a central role in welcoming refugees into their community. Join Jonathan Ornstein\, JCC Krakow Executive Director; Rabbi Avi Baumol\, Rabbinic Representative of the Chief Rabbi of Poland in Krakow; and Tamar Jacoby\, President of Opportunity America and regular contributor to the Wall Street Journal\, as they discuss their work with Ukrainian refugees in the Krakow Jewish community.
URL:https://www.shamesjcc.org/event/love-the-stranger-jcc-krakows-invitation-to-ukrainian-refugees/
ATTACH;FMTTYPE=image/webp:https://www.shamesjcc.org/wp-content/uploads/2022/07/ukrainian-refugees-1.webp
END:VEVENT
END:VCALENDAR