BEGIN:VCALENDAR
VERSION:2.0
PRODID:-//Shames JCC - ECPv6.1.3//NONSGML v1.0//EN
CALSCALE:GREGORIAN
METHOD:PUBLISH
X-ORIGINAL-URL:https://www.shamesjcc.org
X-WR-CALDESC:Events for Shames JCC
REFRESH-INTERVAL;VALUE=DURATION:PT1H
X-Robots-Tag:noindex
X-PUBLISHED-TTL:PT1H
BEGIN:VTIMEZONE
TZID:America/New_York
BEGIN:DAYLIGHT
TZOFFSETFROM:-0500
TZOFFSETTO:-0400
TZNAME:EDT
DTSTART:20220313T070000
END:DAYLIGHT
BEGIN:STANDARD
TZOFFSETFROM:-0400
TZOFFSETTO:-0500
TZNAME:EST
DTSTART:20221106T060000
END:STANDARD
END:VTIMEZONE
BEGIN:VEVENT
DTSTART;TZID=America/New_York:20220629T113000
DTEND;TZID=America/New_York:20220629T133000
DTSTAMP:20260420T025100
CREATED:20220622T132217Z
LAST-MODIFIED:20220622T132217Z
UID:25686-1656502200-1656509400@www.shamesjcc.org
SUMMARY:Senior Social Club: Madeline Finesmith from the JCY-Westchester Community Partner
DESCRIPTION:Madeline Finesmith from the JCY-Westchester Community Partners will speak to the senior club. She facilitates literacy mentorship programs at schools and libraries throughout the county. These are volunteer opportunities.
URL:https://www.shamesjcc.org/event/senior-social-club-madeline-finesmith-from-the-jcy-westchester-community-partner/
CATEGORIES:Community-Wide Program
ATTACH;FMTTYPE=image/jpeg:https://www.shamesjcc.org/wp-content/uploads/2022/06/library-1.jpg
END:VEVENT
END:VCALENDAR