BEGIN:VCALENDAR
VERSION:2.0
PRODID:-//Shames JCC - ECPv6.1.3//NONSGML v1.0//EN
CALSCALE:GREGORIAN
METHOD:PUBLISH
X-WR-CALNAME:Shames JCC
X-ORIGINAL-URL:https://www.shamesjcc.org
X-WR-CALDESC:Events for Shames JCC
REFRESH-INTERVAL;VALUE=DURATION:PT1H
X-Robots-Tag:noindex
X-PUBLISHED-TTL:PT1H
BEGIN:VTIMEZONE
TZID:America/New_York
BEGIN:DAYLIGHT
TZOFFSETFROM:-0500
TZOFFSETTO:-0400
TZNAME:EDT
DTSTART:20220313T070000
END:DAYLIGHT
BEGIN:STANDARD
TZOFFSETFROM:-0400
TZOFFSETTO:-0500
TZNAME:EST
DTSTART:20221106T060000
END:STANDARD
END:VTIMEZONE
BEGIN:VEVENT
DTSTART;TZID=America/New_York:20220326T110000
DTEND;TZID=America/New_York:20220326T143000
DTSTAMP:20260419T125814
CREATED:20220317T175236Z
LAST-MODIFIED:20220317T175236Z
UID:24814-1648292400-1648305000@www.shamesjcc.org
SUMMARY:Community Wardrobe Drop Off
DESCRIPTION:The J is thrilled to announce our new partnership with the Community Wardrobe\, a joint initiative between the PTA of Tarrytown and Sleepy Hollow and the Village of Sleepy Hollow. The Community Wardrobe provides local families in need with good clothes free of charge through a dignified shopping experience. \nThe Community Wardrobe clothed 340 families in its first year (2021). We are delighted to be the Community Wardrobe’s new home! \nLooking to support this initiative? The Community Wardrobe is currently seeking donations for spring-weather clothes (good condition only) from 3/26- 3/29\nIf you are interested in volunteer opportunities\, please write communitywardrobe@horsemenpta.com.
URL:https://www.shamesjcc.org/event/community-wardrobe-drop-off/
ATTACH;FMTTYPE=image/jpeg:https://www.shamesjcc.org/wp-content/uploads/2022/03/wardrobe-renovation-winter-scaled.jpg
END:VEVENT
END:VCALENDAR