BEGIN:VCALENDAR
VERSION:2.0
PRODID:-//Shames JCC - ECPv6.1.3//NONSGML v1.0//EN
CALSCALE:GREGORIAN
METHOD:PUBLISH
X-WR-CALNAME:Shames JCC
X-ORIGINAL-URL:https://www.shamesjcc.org
X-WR-CALDESC:Events for Shames JCC
REFRESH-INTERVAL;VALUE=DURATION:PT1H
X-Robots-Tag:noindex
X-PUBLISHED-TTL:PT1H
BEGIN:VTIMEZONE
TZID:America/New_York
BEGIN:DAYLIGHT
TZOFFSETFROM:-0500
TZOFFSETTO:-0400
TZNAME:EDT
DTSTART:20210314T070000
END:DAYLIGHT
BEGIN:STANDARD
TZOFFSETFROM:-0400
TZOFFSETTO:-0500
TZNAME:EST
DTSTART:20211107T060000
END:STANDARD
END:VTIMEZONE
BEGIN:VEVENT
DTSTART;TZID=America/New_York:20211108T100000
DTEND;TZID=America/New_York:20211108T110000
DTSTAMP:20260419T170448
CREATED:20210921T144913Z
LAST-MODIFIED:20211105T140932Z
UID:23710-1636365600-1636369200@www.shamesjcc.org
SUMMARY:Holocaust Education with Shelley Greenspan
DESCRIPTION:Shelly is a member of the Shames JCC and a speaker with the Holocaust and Human Rights Education Center in White Plains. “As a daughter of 2 survivors\, I tell my parents’ stories from a second-generation perspective. My goal is to increase awareness of the Holocaust and its lessons- to fight antisemitism and bigotry against all marginalized people”
URL:https://www.shamesjcc.org/event/holocaust-education-with-shelley-greenspan/
CATEGORIES:Renard Lecture
ATTACH;FMTTYPE=image/jpeg:https://www.shamesjcc.org/wp-content/uploads/2021/09/Holocaust.jpg
END:VEVENT
END:VCALENDAR