BEGIN:VCALENDAR
VERSION:2.0
PRODID:-//Shames JCC - ECPv6.1.3//NONSGML v1.0//EN
CALSCALE:GREGORIAN
METHOD:PUBLISH
X-WR-CALNAME:Shames JCC
X-ORIGINAL-URL:https://www.shamesjcc.org
X-WR-CALDESC:Events for Shames JCC
REFRESH-INTERVAL;VALUE=DURATION:PT1H
X-Robots-Tag:noindex
X-PUBLISHED-TTL:PT1H
BEGIN:VTIMEZONE
TZID:America/New_York
BEGIN:DAYLIGHT
TZOFFSETFROM:-0500
TZOFFSETTO:-0400
TZNAME:EDT
DTSTART:20210314T070000
END:DAYLIGHT
BEGIN:STANDARD
TZOFFSETFROM:-0400
TZOFFSETTO:-0500
TZNAME:EST
DTSTART:20211107T060000
END:STANDARD
END:VTIMEZONE
BEGIN:VEVENT
DTSTART;TZID=America/New_York:20210118T103000
DTEND;TZID=America/New_York:20210118T113000
DTSTAMP:20260421T011337
CREATED:20201210T213107Z
LAST-MODIFIED:20210118T152519Z
UID:22228-1610965800-1610969400@www.shamesjcc.org
SUMMARY:Special MLK Day Renard Lecture: Counting Jews of Color
DESCRIPTION:Special MLK Day Renard lecture with Tamara Fish\nTamara Fish (Harvard U.\, AB; Union Theo. Sem.\, MA; Columbia U.\, MPhil\, ABD) is one of the leading voices on Jews of Color and the immediate past president of the Jewish Multiracial Network (JMN)\, the immediate past president of Congregation Tehillah\, Riverdale\, NY\, and former Assistant Director of the Office of the University Chaplain at Columbia University. She enjoys assisting Jewish communities in actively including Jews of Color and investigating internal race relations constructively.
URL:https://www.shamesjcc.org/event/special-mlk-day-renard-lecture/
CATEGORIES:Renard Lecture
ATTACH;FMTTYPE=image/png:https://www.shamesjcc.org/wp-content/uploads/2020/12/MLK-JR-18-1-1080x675-1.png
END:VEVENT
END:VCALENDAR