BEGIN:VCALENDAR
VERSION:2.0
PRODID:-//Shames JCC - ECPv6.1.3//NONSGML v1.0//EN
CALSCALE:GREGORIAN
METHOD:PUBLISH
X-WR-CALNAME:Shames JCC
X-ORIGINAL-URL:https://www.shamesjcc.org
X-WR-CALDESC:Events for Shames JCC
REFRESH-INTERVAL;VALUE=DURATION:PT1H
X-Robots-Tag:noindex
X-PUBLISHED-TTL:PT1H
BEGIN:VTIMEZONE
TZID:America/New_York
BEGIN:DAYLIGHT
TZOFFSETFROM:-0500
TZOFFSETTO:-0400
TZNAME:EDT
DTSTART:20250309T070000
END:DAYLIGHT
BEGIN:STANDARD
TZOFFSETFROM:-0400
TZOFFSETTO:-0500
TZNAME:EST
DTSTART:20251102T060000
END:STANDARD
END:VTIMEZONE
BEGIN:VEVENT
DTSTART;TZID=America/New_York:20250816T100000
DTEND;TZID=America/New_York:20250816T120000
DTSTAMP:20260422T054310
CREATED:20250702T210020Z
LAST-MODIFIED:20250717T143135Z
UID:33531-1755338400-1755345600@www.shamesjcc.org
SUMMARY:W Connection Step Out: Private Tour of Untermyer Gardens
DESCRIPTION:JCC and W Connection members: $20; non-members: $25 \nJoin us for a special “W Connection Step Out” at the stunning Untermyer Gardens in Yonkers for a private\, docent-led tour. This outing offers widows a meaningful opportunity to connect with others experiencing a similar life circumstance while exploring one of Westchester’s most beautiful and historic sites. \nOur expert docent will guide us through the gardens while sharing stories about Samuel Untermyer’s life\, legacy\, and notable support for Jewish causes. \nEnjoy a morning of beauty\, history\, and community in a welcoming and supportive environment. \nPlease note: The terrain includes uneven pathways\, involves a good amount of walking\, and offers limited shade. We recommend wearing comfortable walking shoes\, bringing a water bottle\, and wearing a sunhat or other sun protection. Transportation is not provided; participants are responsible for getting to and from the gardens.
URL:https://www.shamesjcc.org/event/w-connection-step-out-private-tour-of-untermyer-gardens/
ATTACH;FMTTYPE=image/png:https://www.shamesjcc.org/wp-content/uploads/2025/07/Untermyer-Gardens.png
END:VEVENT
END:VCALENDAR