BEGIN:VCALENDAR
VERSION:2.0
PRODID:-//Shames JCC - ECPv6.1.3//NONSGML v1.0//EN
CALSCALE:GREGORIAN
METHOD:PUBLISH
X-WR-CALNAME:Shames JCC
X-ORIGINAL-URL:https://www.shamesjcc.org
X-WR-CALDESC:Events for Shames JCC
REFRESH-INTERVAL;VALUE=DURATION:PT1H
X-Robots-Tag:noindex
X-PUBLISHED-TTL:PT1H
BEGIN:VTIMEZONE
TZID:America/New_York
BEGIN:DAYLIGHT
TZOFFSETFROM:-0500
TZOFFSETTO:-0400
TZNAME:EDT
DTSTART:20240310T070000
END:DAYLIGHT
BEGIN:STANDARD
TZOFFSETFROM:-0400
TZOFFSETTO:-0500
TZNAME:EST
DTSTART:20241103T060000
END:STANDARD
END:VTIMEZONE
BEGIN:VEVENT
DTSTART;TZID=America/New_York:20240313T190000
DTEND;TZID=America/New_York:20240313T203000
DTSTAMP:20260423T092817
CREATED:20240117T225706Z
LAST-MODIFIED:20240410T184259Z
UID:29976-1710356400-1710361800@www.shamesjcc.org
SUMMARY:Foreign Affairs Discussion Group: The Rise of Failed States
DESCRIPTION:Some 50 nations have either collapsed or are teetering on the edge of failure. The causes include the lingering effects of the pandemic\, terrorism\, huge public debt\, climate disasters\, drug-related crime\, and corrupt governments. Join us to discuss what the overstretched international community can do to address this problem and reduce a growing source of instability in today’s world.
URL:https://www.shamesjcc.org/event/the-rise-of-failed-states/
ATTACH;FMTTYPE=image/png:https://www.shamesjcc.org/wp-content/uploads/2024/01/Cheney_failed-states.png
END:VEVENT
END:VCALENDAR