BEGIN:VCALENDAR
VERSION:2.0
PRODID:-//Shames JCC - ECPv6.1.3//NONSGML v1.0//EN
CALSCALE:GREGORIAN
METHOD:PUBLISH
X-WR-CALNAME:Shames JCC
X-ORIGINAL-URL:https://www.shamesjcc.org
X-WR-CALDESC:Events for Shames JCC
REFRESH-INTERVAL;VALUE=DURATION:PT1H
X-Robots-Tag:noindex
X-PUBLISHED-TTL:PT1H
BEGIN:VTIMEZONE
TZID:America/New_York
BEGIN:DAYLIGHT
TZOFFSETFROM:-0500
TZOFFSETTO:-0400
TZNAME:EDT
DTSTART:20220313T070000
END:DAYLIGHT
BEGIN:STANDARD
TZOFFSETFROM:-0400
TZOFFSETTO:-0500
TZNAME:EST
DTSTART:20221106T060000
END:STANDARD
END:VTIMEZONE
BEGIN:VEVENT
DTSTART;TZID=America/New_York:20220921T113000
DTEND;TZID=America/New_York:20220921T133000
DTSTAMP:20260422T163045
CREATED:20220902T181819Z
LAST-MODIFIED:20220914T181742Z
UID:26033-1663759800-1663767000@www.shamesjcc.org
SUMMARY:NEW! Lunch Club: Lunch Outing to Santorini Restaurant
DESCRIPTION:Sept 21 at 11:30 AM: Santorini Restaurant\, Sleepy Hollow \nJoin your fellow foodies for our new monthly Lunch Club! Our inaugural trip is to Santorini\, an authentic Greek restaurant in Sleepy Hollow\, where you’ll dine on appetizers\, mains\, and dessert for $30 pp (tax and gratuity included). You’ll choose your dishes in advance and all dietary needs can be accommodated. Bring a friend or make new ones!  Register Here or at the Welcome Desk. \n  \nNOTE ON TRANSPORTATION: We’ll be meeting at Santorini Restaurant\, 175 Valley St. Sleepy Hollow 10591. If you need a ride to the restaurant from the JCC\, or have room in your car for others\, please email cjacobs@shamesjcc.org. \nREGISTER
URL:https://www.shamesjcc.org/event/senior-social-club-lunch-outing-to-santorini-restaurant/
ATTACH;FMTTYPE=image/jpeg:https://www.shamesjcc.org/wp-content/uploads/2022/09/contact-us.jpg
END:VEVENT
END:VCALENDAR