BEGIN:VCALENDAR
VERSION:2.0
PRODID:-//Shames JCC - ECPv6.1.3//NONSGML v1.0//EN
CALSCALE:GREGORIAN
METHOD:PUBLISH
X-WR-CALNAME:Shames JCC
X-ORIGINAL-URL:https://www.shamesjcc.org
X-WR-CALDESC:Events for Shames JCC
REFRESH-INTERVAL;VALUE=DURATION:PT1H
X-Robots-Tag:noindex
X-PUBLISHED-TTL:PT1H
BEGIN:VTIMEZONE
TZID:America/New_York
BEGIN:DAYLIGHT
TZOFFSETFROM:-0500
TZOFFSETTO:-0400
TZNAME:EDT
DTSTART:20220313T070000
END:DAYLIGHT
BEGIN:STANDARD
TZOFFSETFROM:-0400
TZOFFSETTO:-0500
TZNAME:EST
DTSTART:20221106T060000
END:STANDARD
END:VTIMEZONE
BEGIN:VEVENT
DTSTART;TZID=America/New_York:20221006T100000
DTEND;TZID=America/New_York:20221006T110000
DTSTAMP:20260422T173455
CREATED:20220928T183032Z
LAST-MODIFIED:20220928T183032Z
UID:26266-1665050400-1665054000@www.shamesjcc.org
SUMMARY:Renew\, Rejuvenate\, and Reconnect: A Jewish Yoga practice (at the Mt. Kisco library)
DESCRIPTION:Renew\, Rejuvenate\, and Reconnect: A Jewish Yoga practice open to all levels \nJoin us for a Jewish yoga class for all levels that explores the holiday of Sukkot. Enjoy this opportunity to stretch the body\, mind\, and soul\, while re-jew-venating with tools and lessons that can be practiced beyond the class. Please dress comfortably and bring your own yoga mat if you have one. No experience necessary! \nAbout the instructor: Emily Herzfeld has been a certified yoga instructor (200 hours) since 2013 and completed training for teaching yoga to children in 2015. Her style of yoga is Raja Yoga (including poses\, breathing\, meditation\, self-study\, etc.)\, and her passion lies in teaching Jewish-themed yoga to adults and children alike. Emily’s yoga classes are comprehensive\, enriching\, and appropriate for all levels. \nThis event will take place at the Mount Kisco Public Library at 100 East Main Street in Mount Kisco. \nREGISTER
URL:https://www.shamesjcc.org/event/renew-rejuvenate-and-reconnect-a-jewish-yoga-practice-at-the-mt-kisco-library/
ATTACH;FMTTYPE=image/jpeg:https://www.shamesjcc.org/wp-content/uploads/2022/09/JewishYoga-scaled.jpg
END:VEVENT
END:VCALENDAR