BEGIN:VCALENDAR
VERSION:2.0
PRODID:-//Shames JCC - ECPv6.1.3//NONSGML v1.0//EN
CALSCALE:GREGORIAN
METHOD:PUBLISH
X-WR-CALNAME:Shames JCC
X-ORIGINAL-URL:https://www.shamesjcc.org
X-WR-CALDESC:Events for Shames JCC
REFRESH-INTERVAL;VALUE=DURATION:PT1H
X-Robots-Tag:noindex
X-PUBLISHED-TTL:PT1H
BEGIN:VTIMEZONE
TZID:America/New_York
BEGIN:DAYLIGHT
TZOFFSETFROM:-0500
TZOFFSETTO:-0400
TZNAME:EDT
DTSTART:20220313T070000
END:DAYLIGHT
BEGIN:STANDARD
TZOFFSETFROM:-0400
TZOFFSETTO:-0500
TZNAME:EST
DTSTART:20221106T060000
END:STANDARD
END:VTIMEZONE
BEGIN:VEVENT
DTSTART;TZID=America/New_York:20220809T080000
DTEND;TZID=America/New_York:20220809T170000
DTSTAMP:20260422T113343
CREATED:20220809T143248Z
LAST-MODIFIED:20220809T143800Z
UID:25931-1660032000-1660064400@www.shamesjcc.org
SUMMARY:New Parents New Babies Pause
DESCRIPTION:Hi new parents! \nNew Parents\, New Babies will resume Wednesdays September 14 @ 9:15 AM \nWe look forward to seeing you there! \nFor more information click here \n 
URL:https://www.shamesjcc.org/event/new-parents-new-babies-pause/
ATTACH;FMTTYPE=image/jpeg:https://www.shamesjcc.org/wp-content/uploads/2022/03/diverse-babies-with-their-parents-scaled.jpg
END:VEVENT
END:VCALENDAR