BEGIN:VCALENDAR
VERSION:2.0
PRODID:-//Shames JCC - ECPv6.1.3//NONSGML v1.0//EN
CALSCALE:GREGORIAN
METHOD:PUBLISH
X-WR-CALNAME:Shames JCC
X-ORIGINAL-URL:https://www.shamesjcc.org
X-WR-CALDESC:Events for Shames JCC
REFRESH-INTERVAL;VALUE=DURATION:PT1H
X-Robots-Tag:noindex
X-PUBLISHED-TTL:PT1H
BEGIN:VTIMEZONE
TZID:America/New_York
BEGIN:DAYLIGHT
TZOFFSETFROM:-0500
TZOFFSETTO:-0400
TZNAME:EDT
DTSTART:20260308T070000
END:DAYLIGHT
BEGIN:STANDARD
TZOFFSETFROM:-0400
TZOFFSETTO:-0500
TZNAME:EST
DTSTART:20261101T060000
END:STANDARD
END:VTIMEZONE
BEGIN:VEVENT
DTSTART;TZID=America/New_York:20260527T113000
DTEND;TZID=America/New_York:20260527T123000
DTSTAMP:20260425T113758
CREATED:20260416T201510Z
LAST-MODIFIED:20260416T201510Z
UID:35144-1779881400-1779885000@www.shamesjcc.org
SUMMARY:Community Service Hour
DESCRIPTION:Table Settings for Seniors at the Food Pantry\n  \nJoin us in helping our neighbors dine with dignity. Together\, we’ll wrap and package table settings—complete with placemats\, napkins\, and flowers—for senior clients of the Tarrytown Sleepy Hollow Community Food Pantry. \nThis is a continuation of a recent Community Service Hour as we work toward our original goal—every bit of help makes a difference. All are welcome!
URL:https://www.shamesjcc.org/event/community-service-hour/
ATTACH;FMTTYPE=image/png:https://www.shamesjcc.org/wp-content/uploads/2025/09/food-pantry-1.png
END:VEVENT
END:VCALENDAR