BEGIN:VCALENDAR
VERSION:2.0
PRODID:-//Shames JCC - ECPv6.1.3//NONSGML v1.0//EN
CALSCALE:GREGORIAN
METHOD:PUBLISH
X-WR-CALNAME:Shames JCC
X-ORIGINAL-URL:https://www.shamesjcc.org
X-WR-CALDESC:Events for Shames JCC
REFRESH-INTERVAL;VALUE=DURATION:PT1H
X-Robots-Tag:noindex
X-PUBLISHED-TTL:PT1H
BEGIN:VTIMEZONE
TZID:America/New_York
BEGIN:DAYLIGHT
TZOFFSETFROM:-0500
TZOFFSETTO:-0400
TZNAME:EDT
DTSTART:20260308T070000
END:DAYLIGHT
BEGIN:STANDARD
TZOFFSETFROM:-0400
TZOFFSETTO:-0500
TZNAME:EST
DTSTART:20261101T060000
END:STANDARD
END:VTIMEZONE
BEGIN:VEVENT
DTSTART;TZID=America/New_York:20260426T110000
DTEND;TZID=America/New_York:20260426T123000
DTSTAMP:20260420T161901
CREATED:20260210T153850Z
LAST-MODIFIED:20260211T170650Z
UID:34858-1777201200-1777206600@www.shamesjcc.org
SUMMARY:Blue Notes & Brunch
DESCRIPTION:Members: $45; non-members: $55 \nCome enjoy a bagel brunch while also taking in some live jazz for a perfect start to a Sunday in spring! Smooth grooves\, fresh brews\, and warm bagels make for a laid-back jazz brunch where live music sets the mood and a spread of bagels and toppings keeps things cozy and delicious. Come hungry\, stay mellow. Jazz Trio will be led by local legend\, Mark Morganelli of The Jazz Forum. \nBagels & lox\, spreads\, coffee & juice included; mimosas available for purchase!
URL:https://www.shamesjcc.org/event/bagels-blue-notes/
ATTACH;FMTTYPE=image/png:https://www.shamesjcc.org/wp-content/uploads/2026/02/bagels-and-blues-notes.png
END:VEVENT
END:VCALENDAR